BEGIN:VCALENDAR
VERSION:2.0
PRODID:-//Rosenwaldhof - ECPv4.8//NONSGML v1.0//EN
CALSCALE:GREGORIAN
METHOD:PUBLISH
X-WR-CALNAME:Rosenwaldhof
X-ORIGINAL-URL:https://www.rosenwaldhof.de
X-WR-CALDESC:Veranstaltungen für Rosenwaldhof
BEGIN:VEVENT
DTSTART;VALUE=DATE:20210813
DTEND;VALUE=DATE:20210816
DTSTAMP:20260423T103339
CREATED:20210705T150459Z
LAST-MODIFIED:20210705T151524Z
UID:4428-1628812800-1629071999@www.rosenwaldhof.de
SUMMARY:Kum Nye
DESCRIPTION:Tibetisches Heilyoga und Meditation: \nKum Nye ist ein Katalog spezieller Yoga-Übungen zur gleichzeitigen Heilung psychischer und physischer Anteile von Leiden und Beschwerden. Die Kum Nye-Praxis verbindet unsere Gefühle anstatt mit dem Verstand direkt mit dem Körper. \nUnsere Gefühle und Körper sind wie Wasser. Das Wasser fließt\, wir lernen in den Energien der Sinne zu schwimmen. Denn wenn wir direkt mit unseren Gefühlen verbunden sind\, können sich alle Sinne öffnen. Somit ist Kum Nye eine Sinngebung für unsere tägliches Leben und darüber hinaus. 
URL:https://www.rosenwaldhof.de/event/kum-nye/
LOCATION:Rosenwaldhof\, Bergstraße 2\, Groß Kreutz (Havel)\, 14550\, Deutschland
GEO:52.4428131;12.7341275
X-APPLE-STRUCTURED-LOCATION;VALUE=URI;X-ADDRESS=Rosenwaldhof Bergstraße 2 Groß Kreutz (Havel) 14550 Deutschland;X-APPLE-RADIUS=500;X-TITLE=Bergstraße 2:geo:12.7341275,52.4428131
CATEGORIES:Meditation,Yoga
ATTACH;FMTTYPE=image/jpeg:https://www.rosenwaldhof.de/wp-content/uploads/2020/11/IMG_8185.jpg
ORGANIZER;CN="B%C3%A4rbel%20Behar-Kremer":MAILTO:b.behar-kremer@tib-gestalt.de
END:VEVENT
END:VCALENDAR