BEGIN:VCALENDAR
VERSION:2.0
PRODID:-//Rosenwaldhof - ECPv4.8//NONSGML v1.0//EN
CALSCALE:GREGORIAN
METHOD:PUBLISH
X-WR-CALNAME:Rosenwaldhof
X-ORIGINAL-URL:https://www.rosenwaldhof.de
X-WR-CALDESC:Veranstaltungen für Rosenwaldhof
BEGIN:VEVENT
DTSTART;VALUE=DATE:20211107
DTEND;VALUE=DATE:20211111
DTSTAMP:20260419T191203
CREATED:20201214T164202Z
LAST-MODIFIED:20210802T102755Z
UID:4032-1636243200-1636588799@www.rosenwaldhof.de
SUMMARY:Kreativ.Flow.Retreat
DESCRIPTION:\nAuszeit mal anders – kreativ\, bunt\, zum Loslassen und Abtauchen! \n4 Tage Kreativ.Flow.Retreat \nWie wäre es mit vier Tagen auf dem Land nur für dich? \nVier Tage voller Lockermachen und Loslassen\, Entspannen und Freisein im Rosenwaldhof im Havelland. \n… Mit Impulsen beim intuitiven Flow-Malen und Bewegung\, Schreiben\, bei Yoga\, Meditation\, Massage oder einem Einzel-Coaching … \nDieses Retreat ist für dich\, wenn du dir bewusst Zeit nehmen möchtest für Dich. Zeit zum intuitiven Malen und Schreiben ohne jeglichen Erwartungsdruck.   \nZeit zum Durchatmen und zur Entspannung\, Zeit zu lesen und zu schreiben\, spazieren zu gehen und vor allem\, um wieder zu Dir selbst zu kommen. \nDas Retreat ist für jede/n geeignet\, es sind keine Vorkenntnise nötig.  \nBeginn: Sonntag\, 7. November 2021: Anreise bis 12:00 Uhr\, Gemeinsames Mittagessen\, Kursbeginn: 15:00 Uhr \nEnde: Mittwoch\, 10. November 2021: Abreise nach dem Mittagessen \nMontag und Dienstag täglich von 9:30 – 18:00 Uhr\, 2-stündige Mittagspause \nRetreatkosten: \nAnmeldung bis zum 30. September 2021: \n300.- Euro (Frühbucherrabatt) \nAnmeldung ab dem 1. Oktober 2021: (Regulärer Preis) \n380.- Euro  \nDie Preise verstehen sich inklusive Mehrwertsteuer. \nAnmeldung: \nsylvia.zeller@berlin.de \n0176 70421451 \n\n\n———————————————\nSylvia Zeller\n\nWeil unser Nest unsere Flügel sind.\nKörperarbeit.Coaching.Kreatives\n\nWrite anywhere and if you can everywhere.(Shaun Levin)\nSchreibkurse & Schreibbegleitung\n\nCicerostraße 14\n10709 Berlin\nMobil: 0176 70421451\n\nwww.heim-waerts.com\nwww.sarasika.de\nwww.kuenstleryogis.com\n\n
URL:https://www.rosenwaldhof.de/event/kreativ-flow-retreat/
LOCATION:Rosenwaldhof\, Bergstraße 2\, Groß Kreutz (Havel)\, 14550\, Deutschland
GEO:52.4428131;12.7341275
X-APPLE-STRUCTURED-LOCATION;VALUE=URI;X-ADDRESS=Rosenwaldhof Bergstraße 2 Groß Kreutz (Havel) 14550 Deutschland;X-APPLE-RADIUS=500;X-TITLE=Bergstraße 2:geo:12.7341275,52.4428131
CATEGORIES:Persönlichkeit & Kreativität,Yoga
ATTACH;FMTTYPE=image/jpeg:https://www.rosenwaldhof.de/wp-content/uploads/2020/12/image-21-04-21-02-59-1-1.jpeg
ORGANIZER;CN="Sylvia%20Zeller":MAILTO:sylvia.zeller@berlin.de
END:VEVENT
END:VCALENDAR