BEGIN:VCALENDAR
VERSION:2.0
PRODID:-//Rosenwaldhof - ECPv4.8//NONSGML v1.0//EN
CALSCALE:GREGORIAN
METHOD:PUBLISH
X-WR-CALNAME:Rosenwaldhof
X-ORIGINAL-URL:https://www.rosenwaldhof.de
X-WR-CALDESC:Veranstaltungen für Rosenwaldhof
BEGIN:VEVENT
DTSTART;VALUE=DATE:20210628
DTEND;VALUE=DATE:20210701
DTSTAMP:20260421T101409
CREATED:20201214T151136Z
LAST-MODIFIED:20210507T111042Z
UID:4021-1624838400-1625097599@www.rosenwaldhof.de
SUMMARY:Kreativ.Flow.Ferien (Sommer) fällt leider Corona-bedingt aus
DESCRIPTION:Kreativ.Flow.Ferien für Familien mit Kindern \nFerien mal anders – kreativ\, bunt\, zum Rauslassen\, Loslassen und Abtauchen! \nIn den Sommer- und Herbstferien \nDas Programm ist für Familien\, alleinreisende Väter\, Mütter und Großeltern mit Kindern im Alter zwischen 4 und 11 Jahren konzipiert. \nInmitten der Natur\, im Rosenwaldhof im Havelland\, genießt ihr einen Mix aus Aktivitäten für die Kleinen\, für die Großen\, für alle zusammen und nur für euch selbst: Spass in Tüten\, Bewegung in der Natur\, Baden\, Wandern\, kreative Begegnung mit Farben und Intuitives Tüfteln mit Materialien\, (Kinder)Yoga und Meditation.  \nSommerferien-Termin \n28. – 30. Juni 2021 \nAllgemeines: \nBeginn: Anreise bis 12:00 Uhr\, Gemeinsames Mittagessen\, Kursbeginn: 15:00 Uhr \nEnde: Workshop-Ende 12:00 Uhr. Abreise nach dem Mittagessen.  \nVegetarische Vollpension. \nSeminarkosten: \nAnmeldung bis zum 15. Mai und vollständige Bezahlung bis zum 31.5. 2021 (Frühbucher): 375\,- € pro Person mit einem Kind \nAnmeldung ab dem 1. Juni 2021 (Regulärer Preis): 415\,- € pro Person mit einem Kind. \nFür jedes weitere Kind werden 40\,- € und für einen weiteren Erwachseneren 80 \,- € berechnet. \nDie Preise verstehen sich inklusive Mehrwertsteuer. \n\n(exklusive Übernachtungs- und Verpflegungskosten) \nSende deine verbindliche Anmeldung per Mail an: hallo@janetfriedel.de \nWeitere Details sind hier zusammengefasst www.janetfriedel.de \nWir – Sylvia und ich – freuen uns auf Euch. \nIch bin Janet Friedel\, Inhaberin der Teamspirit Factory\, Yoga und Meditationslehrerin. www.teamspiritfactory.de und www.janetfriedel.de \nSylvia Zeller\, Yoga- und Kinderyogalehrerin\, Shiatsu-Praktikerin\, Entspannungstrainerin und Heilpraktikerin für Psychotherapie. Kreativ Coach \nMehr zu Sylvia’s eigene Programme unter www.heim-waerts.com \nBitte melden Sie sich für das Seminar direkt beim Veranstalter an.  \nIhr Zimmer im Rosenwaldhof reservieren Sie bitte mit folgendem Link. \nZimmerreservierung 
URL:https://www.rosenwaldhof.de/event/kreativ-flow-ferien-sommer/
LOCATION:Rosenwaldhof\, Bergstraße 2\, Groß Kreutz (Havel)\, 14550\, Deutschland
GEO:52.4428131;12.7341275
X-APPLE-STRUCTURED-LOCATION;VALUE=URI;X-ADDRESS=Rosenwaldhof Bergstraße 2 Groß Kreutz (Havel) 14550 Deutschland;X-APPLE-RADIUS=500;X-TITLE=Bergstraße 2:geo:12.7341275,52.4428131
CATEGORIES:Persönlichkeit & Kreativität,Yoga
ATTACH;FMTTYPE=image/png:https://www.rosenwaldhof.de/wp-content/uploads/2020/12/logo-colors-250px.png
ORGANIZER;CN="Janet%20Friedel%20%26%20Sylvia%20Zeller":MAILTO:hallo@janetfriedel.de
END:VEVENT
END:VCALENDAR