BEGIN:VCALENDAR
VERSION:2.0
PRODID:-//Rosenwaldhof - ECPv4.8//NONSGML v1.0//EN
CALSCALE:GREGORIAN
METHOD:PUBLISH
X-WR-CALNAME:Rosenwaldhof
X-ORIGINAL-URL:https://www.rosenwaldhof.de
X-WR-CALDESC:Veranstaltungen für Rosenwaldhof
BEGIN:VEVENT
DTSTART;VALUE=DATE:20200410
DTEND;VALUE=DATE:20200414
DTSTAMP:20260419T204500
CREATED:20200201T103315Z
LAST-MODIFIED:20200404T120959Z
UID:3530-1586476800-1586822399@www.rosenwaldhof.de
SUMMARY:TIME TOGETHER - Ostertreffen - fällt leider aus
DESCRIPTION:O S T E R T R E F F E N \nFriends & Friends of Reshad Feild \nDer schöne Ort scheint geradezu einzuladen um gemeinsam zu atmen und zu studieren. \nWir freuen uns auf das Zusammensein im Atem\, Bewegungen mit Jaqueline Verschuur\, Singen mit Faridah Busemann\, Ibn Arabi mit Dr. Eric Winkel …\nund Segen für die wundervolle Welt! \n  \n \n \nFür mehr Info bitte hier klicken: Eastergathering 2020 \n\n\n  \nAnmeldung\, Info und Zimmerbuchung bitte direkt beim Veranstalter. 
URL:https://www.rosenwaldhof.de/event/klaus-koblitzek-sufi-retreat-ostern20/
LOCATION:Rosenwaldhof\, Bergstraße 2\, Groß Kreutz (Havel)\, 14550\, Deutschland
GEO:52.4428131;12.7341275
X-APPLE-STRUCTURED-LOCATION;VALUE=URI;X-ADDRESS=Rosenwaldhof Bergstraße 2 Groß Kreutz (Havel) 14550 Deutschland;X-APPLE-RADIUS=500;X-TITLE=Bergstraße 2:geo:12.7341275,52.4428131
CATEGORIES:Meditation
ATTACH;FMTTYPE=image/png:https://www.rosenwaldhof.de/wp-content/uploads/2020/02/Sufis-Wassertropfen.png
ORGANIZER;CN="Klaus%20Koblitzek":MAILTO:timetogether@chalice-deutschland.de
END:VEVENT
END:VCALENDAR