BEGIN:VCALENDAR
VERSION:2.0
PRODID:-//Rosenwaldhof - ECPv4.8//NONSGML v1.0//EN
CALSCALE:GREGORIAN
METHOD:PUBLISH
X-WR-CALNAME:Rosenwaldhof
X-ORIGINAL-URL:https://www.rosenwaldhof.de
X-WR-CALDESC:Veranstaltungen für Rosenwaldhof
BEGIN:VEVENT
DTSTART;VALUE=DATE:20200911
DTEND;VALUE=DATE:20200914
DTSTAMP:20260419T232446
CREATED:20200901T195853Z
LAST-MODIFIED:20200901T195853Z
UID:3699-1599782400-1600041599@www.rosenwaldhof.de
SUMMARY:Iyengar Yoga Workshop
DESCRIPTION:Deep practice of the Iyengar method. the workshop offers combination between rural calm weekend and longer deeper Yoga sessions 
URL:https://www.rosenwaldhof.de/event/iyengar-yoga-workshop/
LOCATION:Rosenwaldhof\, Bergstraße 2\, Groß Kreutz (Havel)\, 14550\, Deutschland
GEO:52.4428131;12.7341275
X-APPLE-STRUCTURED-LOCATION;VALUE=URI;X-ADDRESS=Rosenwaldhof Bergstraße 2 Groß Kreutz (Havel) 14550 Deutschland;X-APPLE-RADIUS=500;X-TITLE=Bergstraße 2:geo:12.7341275,52.4428131
ORGANIZER;CN="Atar%20Rabina":MAILTO:atar.rabina@gmail.com
END:VEVENT
END:VCALENDAR