BEGIN:VCALENDAR
VERSION:2.0
PRODID:-//Rosenwaldhof - ECPv4.8//NONSGML v1.0//EN
CALSCALE:GREGORIAN
METHOD:PUBLISH
X-WR-CALNAME:Rosenwaldhof
X-ORIGINAL-URL:https://www.rosenwaldhof.de
X-WR-CALDESC:Veranstaltungen für Rosenwaldhof
BEGIN:VEVENT
DTSTART;VALUE=DATE:20220108
DTEND;VALUE=DATE:20220114
DTSTAMP:20260423T084911
CREATED:20210621T135313Z
LAST-MODIFIED:20210621T153714Z
UID:4383-1641600000-1642118399@www.rosenwaldhof.de
SUMMARY:Internationale MBSR-Lehrer-Weiterbildung EUR_4 1.Modul
DESCRIPTION:Weiterbildung zum/zur Lehrer*in für Stressbewältigung durch Achtsamkeit/Mindfulness-Based-Stress Reduction (MBSR) \nWeitere Termine auf dem Rosenwaldhof: \nModul 2 – 8.-13.1.22 \nModul 4 – 28.5.-2.6.22 \nModul 6 – 11.-16.10.22 \n  \n  
URL:https://www.rosenwaldhof.de/event/internationale-mbsr-lehrer-weiterbildung-eur_4/
LOCATION:Rosenwaldhof\, Bergstraße 2\, Groß Kreutz (Havel)\, 14550\, Deutschland
GEO:52.4428131;12.7341275
X-APPLE-STRUCTURED-LOCATION;VALUE=URI;X-ADDRESS=Rosenwaldhof Bergstraße 2 Groß Kreutz (Havel) 14550 Deutschland;X-APPLE-RADIUS=500;X-TITLE=Bergstraße 2:geo:12.7341275,52.4428131
CATEGORIES:geschlossene Gruppe,MBSR,Meditation
ATTACH;FMTTYPE=image/jpeg:https://www.rosenwaldhof.de/wp-content/uploads/2020/11/IMG_8172.jpg
END:VEVENT
END:VCALENDAR