BEGIN:VCALENDAR
VERSION:2.0
PRODID:-//Rosenwaldhof - ECPv4.8//NONSGML v1.0//EN
CALSCALE:GREGORIAN
METHOD:PUBLISH
X-WR-CALNAME:Rosenwaldhof
X-ORIGINAL-URL:https://www.rosenwaldhof.de
X-WR-CALDESC:Veranstaltungen für Rosenwaldhof
BEGIN:VEVENT
DTSTART;VALUE=DATE:20170221
DTEND;VALUE=DATE:20170222
DTSTAMP:20260420T003857
CREATED:20161207T152705Z
LAST-MODIFIED:20170207T080316Z
UID:1081-1487635200-1487721599@www.rosenwaldhof.de
SUMMARY:Tagesseminar „Pranayama und Meditation“ mit Dr. Shrikrishna B. Tengshe (Berlin)
DESCRIPTION:\nDr. Shrikrishna vermittelt nicht nur die Technik von Pranayama-Übungen auf äußerst präzise Weise\, sondern auch die subtile Essenz der philosophischen und psychologischen Grundlagen eines Yogaweges\, der auf authentischen Hintergründen einer lebendigen indischen Tradition beruht und der weit über das eher äußerliche Praktizieren von Körper-\, Atem- und Meditationsmethoden hinausgeht. Seine humorvolle Art des Lehrens verbindet geistige Präzision mit der Verkörperung tiefgehender Erfahrungen. Weitere Informationen zu Dr. Shrikrishna finden Sie auf seiner Webseite. \nBitte melden Sie sich für das Seminar direkt beim Veranstalter an.\n 
URL:https://www.rosenwaldhof.de/event/intensivgruppe_d-copy/
LOCATION:Gesundheitszentrum Sonne & Mond\, Schwedter Straße 1\, Berlin (Prenzlauer Berg)\, 10119\, Deutschland
GEO:52.5329981;13.4118958
X-APPLE-STRUCTURED-LOCATION;VALUE=URI;X-ADDRESS=Gesundheitszentrum Sonne & Mond Schwedter Straße 1 Berlin (Prenzlauer Berg) 10119 Deutschland;X-APPLE-RADIUS=500;X-TITLE=Schwedter Straße 1:geo:13.4118958,52.5329981
CATEGORIES:Meditation,Shrikrishna
ATTACH;FMTTYPE=image/png:https://www.rosenwaldhof.de/wp-content/uploads/2016/12/Yantra2.png
ORGANIZER;CN="Dr.%20Shrikrishna%20B.%20Tengshe%20aus%20Mumbai":MAILTO:maya@rosenwaldhof.de
END:VEVENT
END:VCALENDAR