BEGIN:VCALENDAR
VERSION:2.0
PRODID:-//Rosenwaldhof - ECPv4.8//NONSGML v1.0//EN
CALSCALE:GREGORIAN
METHOD:PUBLISH
X-WR-CALNAME:Rosenwaldhof
X-ORIGINAL-URL:https://www.rosenwaldhof.de
X-WR-CALDESC:Veranstaltungen für Rosenwaldhof
BEGIN:VEVENT
DTSTART;VALUE=DATE:20230602
DTEND;VALUE=DATE:20230605
DTSTAMP:20260419T141538
CREATED:20230403T125253Z
LAST-MODIFIED:20230411T095850Z
UID:5699-1685664000-1685923199@www.rosenwaldhof.de
SUMMARY:Eintauchen in die Leichtigkeit des Sommers
DESCRIPTION:Leichtes und doch intensives Yoga-Wochenende mit ausreichend Me-Time zwischen den Yogastunden\n \n \n\n\n\nEintauchen in die Leichtigkeit des Sommers \nEin Yoga-Wochenende mit Ina und Petra \nKurz vor der Sommersonnenwende erleben wir ein herrlich leichtes und gleichzeitig intensives Yoga-Wochenende im Rosenwaldhof.  \nKomm mit uns und tanke frische Sommerenergie auf!Und das erwartet Dich:\n» 2x am Tag eine ausgiebige Yogapraxis» Dazwischen ausreichend Zeit und Ruhe für dich» Abends verabschieden wir den Tag gemeinsam mit Gesang\, Stille und Meditation\nDie Seminarkosten pro Person: 225 Euro Frühbucherrabatt bis 21.04: 200 Euro\nDazu kommen die Kosten für Unterkunft und Verpflegung. Diese sind direkt an den Rosenwaldhof zu zahlen.\n\n\n\nWeitere Info\, Anmeldung und Zimmerreservierung bei Ina Wellhausen 
URL:https://www.rosenwaldhof.de/event/ina-wellhausen-leichtigkeit-des-sommers-yoga-we-2-4-juni-2023/
LOCATION:Rosenwaldhof\, Bergstraße 2\, Groß Kreutz (Havel)\, 14550\, Deutschland
GEO:52.4428131;12.7341275
X-APPLE-STRUCTURED-LOCATION;VALUE=URI;X-ADDRESS=Rosenwaldhof Bergstraße 2 Groß Kreutz (Havel) 14550 Deutschland;X-APPLE-RADIUS=500;X-TITLE=Bergstraße 2:geo:12.7341275,52.4428131
CATEGORIES:Highlight,MBSR,Yoga
ATTACH;FMTTYPE=image/jpeg:https://www.rosenwaldhof.de/wp-content/uploads/2016/12/Mohnblumen_1024.jpg
ORGANIZER;CN="Ina%20Wellhausen":MAILTO:kontakt@inayoga.de
END:VEVENT
END:VCALENDAR