BEGIN:VCALENDAR
VERSION:2.0
PRODID:-//Rosenwaldhof - ECPv4.8//NONSGML v1.0//EN
CALSCALE:GREGORIAN
METHOD:PUBLISH
X-WR-CALNAME:Rosenwaldhof
X-ORIGINAL-URL:https://www.rosenwaldhof.de
X-WR-CALDESC:Veranstaltungen für Rosenwaldhof
BEGIN:VEVENT
DTSTART;TZID=Europe/Berlin:20210926T080000
DTEND;TZID=Europe/Berlin:20210930T170000
DTSTAMP:20260419T141606
CREATED:20210629T154425Z
LAST-MODIFIED:20210629T201029Z
UID:4423-1632643200-1633021200@www.rosenwaldhof.de
SUMMARY:If I were in your shoes - Methodenaustausch von Bildungsorganisationen
DESCRIPTION:5 Europäische Bildungsorganisationen kommen für einen Methodenaustausch zusammen. es werden Methoden des Live Action Role Play zur Antidiskrimierungsarbeit ausprobiert. 
URL:https://www.rosenwaldhof.de/event/if-i-were-in-your-shoes-methodenaustausch-von-bildungsorganisationen/
LOCATION:Rosenwaldhof\, Bergstraße 2\, Groß Kreutz (Havel)\, 14550\, Deutschland
GEO:52.4428131;12.7341275
X-APPLE-STRUCTURED-LOCATION;VALUE=URI;X-ADDRESS=Rosenwaldhof Bergstraße 2 Groß Kreutz (Havel) 14550 Deutschland;X-APPLE-RADIUS=500;X-TITLE=Bergstraße 2:geo:12.7341275,52.4428131
CATEGORIES:Beratung/Therapie,geschlossene Gruppe
ATTACH;FMTTYPE=image/png:https://www.rosenwaldhof.de/wp-content/uploads/2021/06/cropped-solarblog.png
ORGANIZER;CN="Solar%20e.V.":MAILTO:info@solarev.org
END:VEVENT
END:VCALENDAR