BEGIN:VCALENDAR
VERSION:2.0
PRODID:-//Rosenwaldhof - ECPv4.8//NONSGML v1.0//EN
CALSCALE:GREGORIAN
METHOD:PUBLISH
X-WR-CALNAME:Rosenwaldhof
X-ORIGINAL-URL:https://www.rosenwaldhof.de
X-WR-CALDESC:Veranstaltungen für Rosenwaldhof
BEGIN:VEVENT
DTSTART;VALUE=DATE:20181019
DTEND;VALUE=DATE:20181022
DTSTAMP:20260419T185253
CREATED:20180801T194701Z
LAST-MODIFIED:20180801T195122Z
UID:2855-1539907200-1540166399@www.rosenwaldhof.de
SUMMARY:Honour the Silence - mit Dariusz Jog Prakash
DESCRIPTION:Gönn Dir eine Auszeit mit täglichen Yoga-\, Meditations und Entspannungseinheiten. \nEin Rückzug aus der gewohnten Umgebung hilft das innere Gleichgewicht wieder herzustellen und die Quellen der eigenen Kraft dauerhaft zu erschliessen. Schweigen\, Stille und meditieren sind sehr kraftvolle Wege\, um zu innerem Frieden und Gleichgewicht zu gelangen. Während des Retreats werden wir deshalb heilsames Schweigen beim Abendessen und während der Abendmeditation mit einfliessen lassen. \nDie Teilnahme an diesem Kurs setzt keine Vorkenntnisse voraus. Die Übungen sind praxisorientiert und leicht in den Alltag zu integrieren. \nAblauf: \n\nMorgens und Abends Kundalini Yoga Sessions\, Meditation & Pranayama\nBreathwalk & Achtsamkeitsschulung im angrenzenden Wald.\nGruppenbewusstsein stärken durch einen Rahmen\, der von Stille und einem achtsamen Zusammenleben geprägt ist.\n\nSeminarleiter: Dariusz Jog Prakash \nEr hat die Kundalini Yoga Lehrerausbildung Stufe I und II abgeschlossen. Hinzu kamen Ausbildungen im Sat Nam Rasayan und als Fastenleiter. \nSeit 2015 unterrichtet er Kurse mit dem Fokus auf Entgiftung\, Erneuerung und Regeneration. \nDarius Ansatz in der eigenen Praxis und im Unterricht ist es auf intuitive und einfühlsame Art\, mit viel Freude und Humor den Gruppen zu begegnen. Je nach Gruppe besteht der Unterricht aus sanften sowie fordernden Elementen. \nLink zum Flyer \nSeminarkosten: \nEarly Bird Preis 140€ bis einschliesslich          31.08.2018\nab 1. September 2018 160€/     Ermässigt 140€ \nBitte melden Sie sich für das Seminar direkt beim Veranstalter an. Ihr Zimmer im Rosenwaldhof reservieren Sie bitte mit folgendem Link. \n[vc_row][vc_column][vc_tta_accordion c_position=“right“ active_section=“1000″ collapsible_all=“true“][vc_tta_section title=“Zimmerreservierung bitte hier klicken.“ tab_id=“1484146577277-3de1b8b1-a9bd“][vc_column_text]\n\n\n\n\n\n\n\n\n\n Ihr Vorname (Pflichtfeld)\n      \n Ihr Nachname (Pflichtfeld)\n      \n Strasse (Pflichtfeld)\n      \n Postleitzahl (Pflichtfeld)\n      \n Ort (Pflichtfeld)\n      \n Telefon (Pflichtfeld)\n      \n Ihre E-Mail-Adresse (Pflichtfeld)\n      \nMein Zimmerwunsch 1 (bitte wählen)Einzelzimmer mit BadEinzelzimmer mit EtagenbadDoppelzimmer mit Bad \nMein Zimmerwunsch 2 (bitte wählen)Einzelzimmer mit BadEinzelzimmer mit EtagenbadDoppelzimmer mit Bad \nIch buche die Unterkunft und Verpflegung entsprechend den Vorgaben des SeminarveranstaltersIch habe besondere Hinweise zu meiner An-/Abreise\, Verpflegung oder Weiterem und teile diese im folgenden mit: \n Ihre Nachricht\n      \nBitte lasse dieses Feld leer. \nIch bestätige\, dass ich die Zimmerreservierung auf Basis der gültigen Preisliste und Stornierungsbedingungen durchführe. (https://www.rosenwaldhof.de/preise-und-stornierungsbedingungen/) (Pflichtfeld) \nIch bestätige\, dass ich die Datenschutzerklärung des Rosenwaldhof gelesen habe und sie akzeptiere. (https://www.rosenwaldhof.de/datenschutz-ds-gvo/) (Pflichtfeld) \nBitte beantworten Sie folgende Spamschutz-Frage: 20 plus 30 =  \n \n[/vc_column_text][/vc_tta_section][/vc_tta_accordion][/vc_column][/vc_row] 
URL:https://www.rosenwaldhof.de/event/honour-the-silence-mit-dariusz-jog-prakash/
LOCATION:Rosenwaldhof\, Bergstraße 2\, Groß Kreutz (Havel)\, 14550\, Deutschland
GEO:52.4428131;12.7341275
X-APPLE-STRUCTURED-LOCATION;VALUE=URI;X-ADDRESS=Rosenwaldhof Bergstraße 2 Groß Kreutz (Havel) 14550 Deutschland;X-APPLE-RADIUS=500;X-TITLE=Bergstraße 2:geo:12.7341275,52.4428131
ORGANIZER;CN="Dariusz%20Jog%20Prakash":MAILTO:jogprakashsingh@googlemail.com
END:VEVENT
END:VCALENDAR