BEGIN:VCALENDAR
VERSION:2.0
PRODID:-//Rosenwaldhof - ECPv4.8//NONSGML v1.0//EN
CALSCALE:GREGORIAN
METHOD:PUBLISH
X-WR-CALNAME:Rosenwaldhof
X-ORIGINAL-URL:https://www.rosenwaldhof.de
X-WR-CALDESC:Veranstaltungen für Rosenwaldhof
BEGIN:VEVENT
DTSTART;VALUE=DATE:20190530
DTEND;VALUE=DATE:20190603
DTSTAMP:20260419T202456
CREATED:20190121T182724Z
LAST-MODIFIED:20190205T100500Z
UID:3019-1559174400-1559519999@www.rosenwaldhof.de
SUMMARY:Holotropes Atmen Workshop
DESCRIPTION:(English Version below) \nmit zertifzierten GTT (Grof Transpersonales Training) Facilitators: Cyrus\, Karin\, Lydia & Team. \nSie sind herzlich willkommen an unserem verlängerten Holotropen Atem Workshop im Rosenwaldhof\, nahe Berlin\, teilzunehmen. Vorkenntnisse im Holotropen Atmen sind nicht erforderlich.\n\nDer Workshop beinhaltet neben den Atem Sitzungen\, Meditation und eine Einführung in die Theorie und Praxis des holotropen Atems. Für Fragen wird genügend Zeit zur Verfügung stehen. \nDas Wochenende ist so angelegt\, dass den Teilnehmern ein tiefes Gefühl der Unterstützung und Sicherheit vermittelt wird\, was die Erforschung und die Vertiefung des Bewusstseins erleichtern soll. \nDer Workshop bietet jeweils zwei Atem und zwei Sitz Sessions pro Person an. \nAusführliche Informationen über das Holotrope Atmen bekommen Sie hier: \nhttp://www.holotropic-association.eu \nFrisch zubereitetes\, vegetarisches Bio-Essen\, Spaziergänge in der schönen Natur des Havellandes und die Übernachtung im Rosenwaldhof unterstützen Sie bei der Vertiefung Ihrer Erfahrung. \nDer Zeitplan: \nWorkshop Beginn /Ende: Donnerstag 30. Mai 11:00 Uhr – 2. Juni 14:00 Uhr nach dem Mittagessen. Die Anzahl der Teilnehmer ist begrenzt.\nDer Workshop wird auf Englisch / Deutsch über Übersetzung in beide Richtungen abgehalten. \nDie Kosten: \n290€ für den Workshop\n220€ – 280€ für die Unterkunft – abhängig von der Zimmerwahl \nDer Preis beinhaltet die Unterkunft\, Vollpension und ein zusätzliches Mittagessen am Anreisetag. Camping ist zu einem reduzierten Preis möglich. \nREGISTRIERUNG: Senden Sie uns eine E-Mail zur Registrierung. Sie erhalten von uns das Anmeldeformular und das medizinische Formular zum Ausfüllen. Ihre Teilnahme an diesem Workshop ist gesichert\, sobald die Zahlung per Banküberweisung eingegangen ist und die Formulare per E-Mail an folgende Adresse gesendet wurden: \nholotropicbreathworkberlin@gmail.com \nDas Team: \nCyrus Bruton \n \n  \nLydia Schamschula \n \n  \nKarin Bergmann \n \nVeranstalter: Cyrus Bruton  \n  \n\n\n\n\nDouble Holotropic Breathwork Workshop at Rosenwaldhof \n\n\n\n\n30th May – 2nd June 2019 \nwith Certifed GTT (Grof Transpersonal Training) Facilitators: Cyrus\, Karin\, Lydia & Team. \nCome and join us at our residential Double Holotropic Breathwork Workshop at Rosenwaldhof just outside Berlin. Previous experience in Holotropic Breathwork is not required. All are welcome. \nThe workshop includes meditation and an introduction to the theory and practice of Holotropic Breathwork and there will be time for any questions\, \nThe weekend is set up to create a deep sense of support and safety for participants\, which facilitates the exploration of consciousness and deeper levels of awareness. \nThe workshop ofers two breathing sessions and two sitting sessions per person. \nMore informations about Holotropic Breathwork: \nhttp://www.holotropic.com \nhttp://www.holotropic-association.eu \nFreshly prepared\, vegetarian organic food\, walks in the beautiful nature of the Havelland and overnight stay at Rosenwaldhof will support your experience. \nSchedule: \nWorkshop Start /End Time: Thursday 30th May 11:00 am – 2nd June 14:00 after lunch. The number of participants is limited.\nThe workshop will be held in english/german with translation in either direction Investment: \n290€ for the workshop\n220€ – 280€ for lodging – depending on room choice \nPrice includes accommodation\, full board\, including extra lunch on arrival day. Camping is also available for a reduced price. \nREGISTRATION: Send us an email for Registration. You will get the registration form and the medical form to fll out from us.\nYour participation in this workshop is secured as soon as the payment has been received by bank transfer and the registration form and the medical form has been emailed back to: \nholotropicbreathworkberlin@gmail.com \nOrganizer: Cyrus Bruton http://www.cyrusbruton.com \n\n\n\n\n  \nBitte melden Sie sich für das Seminar direkt beim Veranstalter an. Ihr Zimmer im Rosenwaldhof reservieren Sie bitte mit folgendem Link. \n[vc_row][vc_column][vc_tta_accordion c_position=“right“ active_section=“1000″ collapsible_all=“true“][vc_tta_section title=“Zimmerreservierung bitte hier klicken/Reserve your room here.“ tab_id=“1484146577277-3de1b8b1-a9bd“][vc_column_text]\n\n\n\n\n\n\n\n\n\n Ihr Vorname (Pflichtfeld)\n      \n Ihr Nachname (Pflichtfeld)\n      \n Strasse (Pflichtfeld)\n      \n Postleitzahl (Pflichtfeld)\n      \n Ort (Pflichtfeld)\n      \n Telefon (Pflichtfeld)\n      \n Ihre E-Mail-Adresse (Pflichtfeld)\n      \nMein Zimmerwunsch 1 (bitte wählen)Einzelzimmer mit BadEinzelzimmer mit EtagenbadDoppelzimmer mit Bad \nMein Zimmerwunsch 2 (bitte wählen)Einzelzimmer mit BadEinzelzimmer mit EtagenbadDoppelzimmer mit Bad \nIch buche die Unterkunft und Verpflegung entsprechend den Vorgaben des SeminarveranstaltersIch habe besondere Hinweise zu meiner An-/Abreise\, Verpflegung oder Weiterem und teile diese im folgenden mit: \n Ihre Nachricht\n      \nBitte lasse dieses Feld leer. \nIch bestätige\, dass ich die Zimmerreservierung auf Basis der gültigen Preisliste und Stornierungsbedingungen durchführe. (https://www.rosenwaldhof.de/preise-und-stornierungsbedingungen/) (Pflichtfeld) \nIch bestätige\, dass ich die Datenschutzerklärung des Rosenwaldhof gelesen habe und sie akzeptiere. (https://www.rosenwaldhof.de/datenschutz-ds-gvo/) (Pflichtfeld) \nBitte beantworten Sie folgende Spamschutz-Frage: 40 plus 50 =  \n \n[/vc_column_text][/vc_tta_section][/vc_tta_accordion][/vc_column][/vc_row] 
URL:https://www.rosenwaldhof.de/event/holotropesatmencyrusbruton2019/
LOCATION:Rosenwaldhof\, Bergstraße 2\, Groß Kreutz (Havel)\, 14550\, Deutschland
GEO:52.4428131;12.7341275
X-APPLE-STRUCTURED-LOCATION;VALUE=URI;X-ADDRESS=Rosenwaldhof Bergstraße 2 Groß Kreutz (Havel) 14550 Deutschland;X-APPLE-RADIUS=500;X-TITLE=Bergstraße 2:geo:12.7341275,52.4428131
CATEGORIES:Persönlichkeit & Kreativität
ATTACH;FMTTYPE=image/jpeg:https://www.rosenwaldhof.de/wp-content/uploads/2019/01/holotropesatmenbild.jpeg
ORGANIZER;CN="Cyrus%20Bruton":MAILTO:holotropicbreathworkberlin@gmail.com
END:VEVENT
END:VCALENDAR