BEGIN:VCALENDAR
VERSION:2.0
PRODID:-//Rosenwaldhof - ECPv4.8//NONSGML v1.0//EN
CALSCALE:GREGORIAN
METHOD:PUBLISH
X-WR-CALNAME:Rosenwaldhof
X-ORIGINAL-URL:https://www.rosenwaldhof.de
X-WR-CALDESC:Veranstaltungen für Rosenwaldhof
BEGIN:VEVENT
DTSTART;VALUE=DATE:20210408
DTEND;VALUE=DATE:20210412
DTSTAMP:20260419T221407
CREATED:20201207T191317Z
LAST-MODIFIED:20210322T200447Z
UID:3993-1617840000-1618185599@www.rosenwaldhof.de
SUMMARY:Frühjahr Yoga Retreat Absage wegen Corona-Einschränkungen
DESCRIPTION:Gönn Dir eine Auszeit mit täglichen Yoga-\, Meditations- und Entspannungseinheiten. \nDas 4-tägige Retreat findet in der schönen Umgebung der Brandenburger Osthavel statt. Wir genießen direkt neben dem Wald eine Oase der Ruhe und die kraftvolle Natur\, um uns Zeit für uns zu nehmen und uns ganz auf uns selbst zu besinnen. Ein Rückzug aus der gewohnten Umgebung hilft\, das innere Gleichgewicht wieder herzustellen und die Quellen der eigenen Kraft dauerhaft zu erschließen. \nUnterstützt durch einen Rahmen\, der von Stille und einem achtsamen Zusammenleben geprägt ist\, widmen wir uns der Praxis und Meditation bei diesem Yoga Retreat. Erlebe dadurch die Qualität von wahrer Einkehr. \nWir wollen unsere Körper während dieser vier Tage ganzheitlich nähren und setzen auf täglich frische vegetarische Speisen in Bio-Qualität\, die extra für uns zubereitet werden. Zur weiteren Stärkung stehen uns den ganzen Tag kleine Snacks sowie Getränke zur Verfügung. \nDie Teilnahme an diesem Kurs setzt keine Vorkenntnisse voraus. Die Übungen sind praxisorientiert und leicht in den Alltag zu integrieren. \nDie maximale Teilnehmerzahl beträgt acht Personen. \nDas Seminarhaus befindet sich ca. eine Stunde entfernt von Berlin. \nSollte es aus aktuellen Gründen nicht möglich sein\, am Retreat teilzunehmen\, kannst du auch kurzfristig kostenlos stornieren. \nDas Yoga Retreat beinhaltet: \n\n3 x Übernachtungen im Zimmer mit besonderer Atmosphäre und Blick auf die umliegenden Wälder inkl. Balkon\, Dusche oder Bad\, WC.\n3 x leckere biologische Vollverpflegung\nJeden Tag morgens und abends Yoga und Meditation (Kundalini Yoga & BodyFlow)\nGehmeditation und Achtsamkeitsschulung im angrenzenden Wald\nStärkung des Gruppenbewusstseins durch einen Rahmen\, der meditativ und von einem achtsamen Zusammenleben geprägt ist.                                                                                     Bei Fragen zum Yoga & Meditations-Retreat melde dich gerne bei jogprakashsingh@gmail.com\n\nPREISE & UNTERKUNFT: \nSeminargebühr: 200€ \nFrühbucherpreis bis einschließlich 1. März 2021: 170€ \nExklusiv: Unterkunft und Verpflegung \n\nAls Teilnehmer buchst Du rechtzeitig direkt im Seminarhaus\nDie Preise variieren zwischen 63€ bis 88€/Nacht\nEs gibt drei biologische/vegetarische Mahlzeiten am Tag\nSnacks sind im Zimmerpreis inbegriffen\n\nBesuche hierzu die Website vom Rosenwaldhof 
URL:https://www.rosenwaldhof.de/event/herbst-yoga-retreat/
LOCATION:Rosenwaldhof\, Bergstraße 2\, Groß Kreutz (Havel)\, 14550\, Deutschland
GEO:52.4428131;12.7341275
X-APPLE-STRUCTURED-LOCATION;VALUE=URI;X-ADDRESS=Rosenwaldhof Bergstraße 2 Groß Kreutz (Havel) 14550 Deutschland;X-APPLE-RADIUS=500;X-TITLE=Bergstraße 2:geo:12.7341275,52.4428131
CATEGORIES:Meditation,Yoga
ATTACH;FMTTYPE=image/jpeg:https://www.rosenwaldhof.de/wp-content/uploads/2020/12/IMG-6979.jpg
ORGANIZER;CN="Dariusz%20Jog%20Prakash":MAILTO:jogprakashsingh@googlemail.com
END:VEVENT
END:VCALENDAR