BEGIN:VCALENDAR
VERSION:2.0
PRODID:-//Rosenwaldhof - ECPv4.8//NONSGML v1.0//EN
CALSCALE:GREGORIAN
METHOD:PUBLISH
X-WR-CALNAME:Rosenwaldhof
X-ORIGINAL-URL:https://www.rosenwaldhof.de
X-WR-CALDESC:Veranstaltungen für Rosenwaldhof
BEGIN:VEVENT
DTSTART;VALUE=DATE:20190315
DTEND;VALUE=DATE:20190323
DTSTAMP:20260419T202927
CREATED:20170309T135332Z
LAST-MODIFIED:20181208T185037Z
UID:2036-1552608000-1553299199@www.rosenwaldhof.de
SUMMARY:Gemäßigtes Dinkelfasten nach Hildegard von Bingen
DESCRIPTION:Meditation in Stille und in Bewegung \, Gehmeditation in der Natur\, achtsames Kochen und Essen  \nGenieße es\, Dich nach der Winterzeit – der Zeit der Ruhe und des Rückzugs –  auf die Aktivität des Sommers vorzubereiten und gereinigt und gestärkt der warmen Jahreszeit zu begegnen. \nStimme Deinen Körper\, Geist und Deine Seele auf die warme Jahreszeit ein. \n \nDas Frühjahr ist eine gute Zeit zum Fasten\, es ist der jahreszeitliche Wechsel\, der uns auffordert\, die über den Winter vermehrt angesammelten Schlacken und vielleicht auch etwas Winterspeck loszuwerden. \nSo wie die Natur für neues frisches Grün sorgt\, können auch wir im Frühjahr Altes loswerden und Platz schaffen für Neues und uns dem Neuen öffnen. \nFasten stärkt das Immunsystem und aktiviert den Stoffwechsel. \nBeim Fasten werden schädliche Stoffe ausgeschieden\, der Körper wird entschlackt\, es werden überalterte Zellen abgebaut und so kommt es zu einer Regeneration des gesamten Körpers. \n  \nWir werden 7 Tage die Ernährung umstellen auf Dinkel\, Gemüsesuppe und Fencheltee sowie den Reinigungsprozess unterstützende Gewürze nach Hildegard von Bingen. \nDiese sehr bekömmliche Fastenmethode schont unseren Organismus\, kann uns helfen\, aus krankmachenden Lebensgewohnheiten auszusteigen und in unserer ganzen Lebensführung wieder zum rechten Maß zurückzufinden. \nNeben verschiedenen Meditationen im Sitzen und Gehen drinnen\, werden wir auch sehr viel in der wunderschönen Natur rund um den Rosenwaldhof unterwegs sein\, sowie verschiedene Körper- Atem- und Sinnesübungen machen. \nWir bereiten unsere Mahlzeiten in Achtsamkeit vor und nehmen sie in Stille zu uns. \nUnd natürlich wird es auch viel Zeit für den Rückzug und die Ruhe geben. \nZur weiteren Unterstützung der Entgiftung und Entspannung biete ich eine 40minütige Fußreflexzonenmassage an. Weitere Massagen sind nach Vereinbarung möglich. \nUnkosten inklusive Fastenbegleitung und -material\, Bioverpflegung und Fußmassage: 400\,-€ (zuzüglich Kosten für die Unterkunft) \nBitte melde dich per Mail oder Telefon bei mir für ein kurzes Vorgespräch an\, so dass ich Dir eine kurze Einführung in die Entlastungstage vor dem Seminar geben kann. \n  
URL:https://www.rosenwaldhof.de/event/gemaessigtes-dinkelfasten-nach-hildegard-von-bingen/
LOCATION:Rosenwaldhof\, Bergstraße 2\, Groß Kreutz (Havel)\, 14550\, Deutschland
GEO:52.4428131;12.7341275
X-APPLE-STRUCTURED-LOCATION;VALUE=URI;X-ADDRESS=Rosenwaldhof Bergstraße 2 Groß Kreutz (Havel) 14550 Deutschland;X-APPLE-RADIUS=500;X-TITLE=Bergstraße 2:geo:12.7341275,52.4428131
CATEGORIES:Meditation,Persönlichkeit & Kreativität
ATTACH;FMTTYPE=image/jpeg:https://www.rosenwaldhof.de/wp-content/uploads/2017/03/manu_450.jpg
END:VEVENT
END:VCALENDAR