BEGIN:VCALENDAR
VERSION:2.0
PRODID:-//Rosenwaldhof - ECPv4.8//NONSGML v1.0//EN
CALSCALE:GREGORIAN
METHOD:PUBLISH
X-WR-CALNAME:Rosenwaldhof
X-ORIGINAL-URL:https://www.rosenwaldhof.de
X-WR-CALDESC:Veranstaltungen für Rosenwaldhof
BEGIN:VEVENT
DTSTART;VALUE=DATE:20201211
DTEND;VALUE=DATE:20201214
DTSTAMP:20260420T010531
CREATED:20200901T123253Z
LAST-MODIFIED:20201127T165356Z
UID:3682-1607644800-1607903999@www.rosenwaldhof.de
SUMMARY:Ganzheitliche Stressbewältigung in Theorie und Praxis - abgesagt
DESCRIPTION:Stressbewältigung im Alltag – Strategien für den Alltag finden \nBewegung\, Yoga\, Atemübungen\, Entspannung \n \n\nSeminar mit ausgewogener Theorie und Praxis zum Thema Stressbewältigung (anerkannt  von den gesetzlichen Krankenkassen*)\nBewegung\, Atemübungen und Entspannung\nVollwertiges vegetarisches Essen und Anregungen zur basischen Ernährung\nZeit für dich: Zeit für Stille und Zeit für Austausch\nEntspannt in das Jahresende gehen\n\nDas Leben um uns und oft auch in uns ist sehr schnell. Wie gehst du mit dir und mit deiner Zeit im Alltag um?\nGerade zum Jahresende ist eine kurze Atempause wertvoll.\nFühle dich eingeladen dich an einem ruhigen Wohlfühlort\, mitten in der Natur an diesem Seminarwochenende zu besinnen und zu regenerieren. \nDu erhältst im Seminar Impulse für die Stressbewältigung im Alltag. Unterstützt wird dies durch Hatha-Yogaübungen am Morgen und Abend (für Anfänger und Erfahrene geeignet) und Entspannung begleitet von Klängen. \nDie vollwertige vegetarische Küche des Rosenwaldhofes und achtsames Essen unterstützen eine gute Leistungsfähigkeit und die Regeneration. \nSchenke dir diese Zeit in einer kleinen Gruppe mit 6-10 Teilnehmer*innen. \nAnmeldung: \nFragen\, Anmeldung und Zimmerbuchung bei: moserkerstin1@t-online.de oder telefonisch unter +49 176 51979233 (bitte auf mailbox sprechen – ich melde mich zurück) 
URL:https://www.rosenwaldhof.de/event/ganzheitliche-stressbewaeltigung-in-theorie-und-praxis/
LOCATION:Rosenwaldhof\, Bergstraße 2\, Groß Kreutz (Havel)\, 14550\, Deutschland
GEO:52.4428131;12.7341275
X-APPLE-STRUCTURED-LOCATION;VALUE=URI;X-ADDRESS=Rosenwaldhof Bergstraße 2 Groß Kreutz (Havel) 14550 Deutschland;X-APPLE-RADIUS=500;X-TITLE=Bergstraße 2:geo:12.7341275,52.4428131
CATEGORIES:MBSR,Meditation,Yoga
ATTACH;FMTTYPE=image/jpeg:https://www.rosenwaldhof.de/wp-content/uploads/2020/09/Yoga-Kerstin1-1.jpg
ORGANIZER;CN="Kerstin%20Moser":MAILTO:moserkerstin1@t-online.de
END:VEVENT
END:VCALENDAR