BEGIN:VCALENDAR
VERSION:2.0
PRODID:-//Rosenwaldhof - ECPv4.8//NONSGML v1.0//EN
CALSCALE:GREGORIAN
METHOD:PUBLISH
X-WR-CALNAME:Rosenwaldhof
X-ORIGINAL-URL:https://www.rosenwaldhof.de
X-WR-CALDESC:Veranstaltungen für Rosenwaldhof
BEGIN:VEVENT
DTSTART;VALUE=DATE:20230428
DTEND;VALUE=DATE:20230501
DTSTAMP:20260419T143423
CREATED:20230221T184300Z
LAST-MODIFIED:20230404T101849Z
UID:5582-1682640000-1682899199@www.rosenwaldhof.de
SUMMARY:Herz über Kopf
DESCRIPTION:Ein Seminar zum Öffnen deines Herzens \nDieses Seminar legt den Grundstein dafür\, dich für dein Herz zu öffnen und dich vom Verstand ins Herz zu bewegen. \nDamit wirst du deine konditionierten Muster von dem\, wie du liebst und geliebt werden möchtest\, erkennen und bekommst damit den Schlüssel zur Tür des Raumes\, in dem die Verwandlung von bedürftigem Sein hin zu einer bewussteren Form von Liebe geschehen kann. Durch den Weg deines vertrauensvollen Öffnens für den augenblicklichen Moment wird es möglich\, die Angst\, mit deiner Liebe nicht angenommen oder verletzt zu werden\, hinter dir zu lassen. \nDurch die Rückverbindung zu deinem Herzen wirst du herausfinden\, dass dieser Zugang dich darin unterstützt\, auf einfache Weise in einen Zustand des wachen inneren Beobachtens zu gelangen. Entdecke neue Wege\, deinem Herzen einen spontanen Ausdruck zu erlauben und dich auch in deinem alltäglichen Leben mit Herzenswärme und Herzensfrieden zu verbinden. \nGeführte Entspannungsübungen\, Meditation\, spielerische Bewegungs- und Berührungselemente mit (d)einem Partner oder der Gruppe sowie Übungen in der Natur erlauben deinen Sinnen sich zu öffnen\, Entspannung zuzulassen und tiefere Gefühle zu erleben. Auf dem Weg des Herzens vertieft sich dein Vertrauen ins Leben und in die Lebensfreude! \nFür dieses Retreat sind keine Vorerfahrungen nötig. \nDie Seminarkosten pro Person: 285 € \nDazu kommen die Kosten für Unterkunft und Verpflegung. Diese sind direkt an den Rosenwaldhof zu zahlen. \n  \n \nFür weitere Information\, Anmeldung und Zimmerreservierung bitte direkt bei der Veranstalterin Gabriele Sprieß: – bitte hier klicken. 
URL:https://www.rosenwaldhof.de/event/gabriele-spriess-28-30-april-2023/
LOCATION:Rosenwaldhof\, Bergstraße 2\, Groß Kreutz (Havel)\, 14550\, Deutschland
GEO:52.4428131;12.7341275
X-APPLE-STRUCTURED-LOCATION;VALUE=URI;X-ADDRESS=Rosenwaldhof Bergstraße 2 Groß Kreutz (Havel) 14550 Deutschland;X-APPLE-RADIUS=500;X-TITLE=Bergstraße 2:geo:12.7341275,52.4428131
CATEGORIES:Highlight,Körperarbeit,Meditation,Persönlichkeit & Kreativität
ATTACH;FMTTYPE=image/jpeg:https://www.rosenwaldhof.de/wp-content/uploads/2023/02/IMG_4011-2-e1680096001421.jpg
ORGANIZER;CN="Gabriele%20Sprie%C3%9F":MAILTO:gabriele.spriess@gmx.de
END:VEVENT
END:VCALENDAR