BEGIN:VCALENDAR
VERSION:2.0
PRODID:-//Rosenwaldhof - ECPv4.8//NONSGML v1.0//EN
CALSCALE:GREGORIAN
METHOD:PUBLISH
X-WR-CALNAME:Rosenwaldhof
X-ORIGINAL-URL:https://www.rosenwaldhof.de
X-WR-CALDESC:Veranstaltungen für Rosenwaldhof
BEGIN:VEVENT
DTSTART;VALUE=DATE:20210618
DTEND;VALUE=DATE:20210621
DTSTAMP:20260419T184929
CREATED:20210104T105730Z
LAST-MODIFIED:20210119T122305Z
UID:4102-1623974400-1624233599@www.rosenwaldhof.de
SUMMARY:Frieden leben
DESCRIPTION:Frieden leben \nDas höchste Gut\, das du verwirklichen kannst\, ist dauerhaft in Frieden zu sein. \nJeder von uns wünscht sich Frieden. Wie kommt es dann\, dass es uns so schwerfällt\, mit sich\, mit anderen\, mit dem Leben in Frieden zu sein? \n„Glück entspringt aus dem inneren Frieden und kann nur existieren\, wenn keine Störungen vorhanden sind. Die Störungen beruhen auf Gedanken\, die im Verstand auftauchen. Ist der Verstand abwesend\, besteht vollkommener Friede.“ \n(Ramana Maharshi) \nFrieden ist einverstanden sein\, mit dem was ist. Friede ist ein Zustand von Stille\, Gelassenheit\, Präsenz und wacher Lebendigkeit. Er ist frei vom urteilenden Mind und dadurch frei von beunruhigenden Gedanken und Emotionen. Er entspringt dem Herzen und ist unsere wahre Natur. Dein innerer Friede in deine Umgebung aus. \nJeder sucht auf seine eigene Weise nach Frieden. Doch meist verschieben wir unseren inneren Frieden in die Zukunft. Wenn ich das und das erreicht und bekommen habe\, dann bin ich zufrieden. \nHast du schon einmal erlebt\, dass das dauerhaft funktioniert? Meist stellt sich doch nicht lange nachdem du dein gesetztes Ziel erreicht hast\, der nächste Wunsch ein. Die Erfüllung liegt wieder in der Zukunft. Somit verwandelt sich dein Frieden wieder in Suchen\, Hoffen und Glauben\, du bräuchtest dies und jenes für deinen Frieden. Später\, so hoffst du\, wirst du inneren Frieden haben\, wirst du frei und glücklich sein. \nWie wäre es\, Dich jetzt bewusst für Frieden\, innere Freiheit\, Vertrauen und Liebe zu entscheiden\, jetzt in diesem Moment das zu fühlen und das sein\, was du in Zukunft sein möchtest? \nBist du bereit\, jetzt den Frieden\, das Vertrauen\, die Liebe und innere Freiheit in dein Leben zu lassen? \nVeranstalter & Seminarleitung \nMonika Redl-Janßen\n08071 10 31 981\nmore.ja-sei@gmx.de\nwww.bewusst-sein.de \nAnmeldung und Information \nAstrid Dehnel\nzerfifizierter Coach (DCV)\n0170 77 77 627\nAstrid.Dehnel@web.de \nMein Herzensanliegen ist es\, Liebe\, Frieden\, Verbundenheit – das Licht in der Welt – zu mehren und Menschen zu inspirieren ihr wahres Selbst zu leben. Monika‘s Seminare sind dafür wunderbar geeignet. \nSusann Hermsdorf\nFeng Shui & Immobilien\n0163 88 63 608\nwohnraum@in-berlin-mieten.de \nMit Begeisterung verbinde ich meine Mitmenschen und inspiriere sie zu spirituellem Wachstum. Monika‘s Seminare sind seit Jahren ein fester Bestandteil dessen. 
URL:https://www.rosenwaldhof.de/event/frieden-leben/
LOCATION:Rosenwaldhof\, Bergstraße 2\, Groß Kreutz (Havel)\, 14550\, Deutschland
GEO:52.4428131;12.7341275
X-APPLE-STRUCTURED-LOCATION;VALUE=URI;X-ADDRESS=Rosenwaldhof Bergstraße 2 Groß Kreutz (Havel) 14550 Deutschland;X-APPLE-RADIUS=500;X-TITLE=Bergstraße 2:geo:12.7341275,52.4428131
CATEGORIES:Beratung/Therapie,Persönlichkeit & Kreativität
ATTACH;FMTTYPE=image/jpeg:https://www.rosenwaldhof.de/wp-content/uploads/2021/01/Titelbild-ohne-Titeltext.jpg
ORGANIZER;CN="Monika%20Redl-Jan%C3%9Fen%20%28Organisation%20Susann%20Hermsdorf%29":MAILTO:more.ja-sei@gmx.de
END:VEVENT
END:VCALENDAR