BEGIN:VCALENDAR
VERSION:2.0
PRODID:-//Rosenwaldhof - ECPv4.8//NONSGML v1.0//EN
CALSCALE:GREGORIAN
METHOD:PUBLISH
X-WR-CALNAME:Rosenwaldhof
X-ORIGINAL-URL:https://www.rosenwaldhof.de
X-WR-CALDESC:Veranstaltungen für Rosenwaldhof
BEGIN:VEVENT
DTSTART;VALUE=DATE:20200424
DTEND;VALUE=DATE:20200427
DTSTAMP:20260420T011529
CREATED:20190521T110347Z
LAST-MODIFIED:20191210T173424Z
UID:3228-1587686400-1587945599@www.rosenwaldhof.de
SUMMARY:Ikebana Kurs - Kado: Blumen Weg – Menschen Weg
DESCRIPTION:\n\n\nDie japanische Kunst des Blumenstellens\n\n\n\n \n\n\n\nIm Ikebana begegnen wir einer Blumenkunst\, welche zutiefst mit allen Aspekten des Lebens verbunden ist. Schwerpunkt in unseren Tagen der Achtsamkeit ist das Hinhören auf die Stimmen der Zweige\, Gräser und Blumen. In der Umgebung des Rosenwaldhofs werden wir selbst die Pflanzen sammeln und in verschiedenen Gestaltungsformen zur Geltung bringen. \nDie Begegnung mit den Pflanzen ist immer auch ein Sicht-selbst-Begegnen\, ein kreativer Prozess des Innehaltens im eigenen Seinsgrund und ein Offenbarwerden des jenseits des Tagesbewusstseins verborgenen kreativen Prozesses. \n  \nJeder Mensch ist ein Künstler\nJoseph Beuys \n  \nWir stellen die Blumen und Zweige zunächst als traditionelles Shoka (japanisch: lebende Blume). Dieser Stil eignet sich für Anfänger besonders gut\, da der Blick für Linien und freie Räume systematisch trainiert wird. Darauf basierend werden wir in die freie Form übergehen. \nAus dem kreativen Gebrauch der Pflanzen zum Erzeugen von Effekten oder Stimmungen\, entspringen für die freie Form unbegrenzte Möglichkeiten. \n\n\nDas Stellen der Pflanzen findet in Stille statt. Sitzen in Stille (Meditation)\, Gegenwärtigkeit und immer wieder innehalten werden uns während des gesamten Kurses begleiten. \n  \nIkebana-Scheren\, Steckigel und Gefäße werden zur Verfügung gestellt. Gerne könnt Ihr eigene Gefäße mitbringen. Um Zweige in der Natur zu schneiden\, bringt bitte eine Gartenschere mit. Festes Schuhwerk wird ebenfalls empfohlen. \n  \nKursgebühr: 150\,- €\, zzgl. 8\,- bis 12\,- € Blumengeld\, je nach Teilnehmerzahl. \nZuzüglich Unterkunft und Verpflegung ab 67 €/Tag je nach Zimmerkategorie \nAnmeldung bei Frank Huppertz und im Rosenwaldhof \nfrank.huppertz@gmx.de\, 0171-5223687 gast@rosenwaldhof.de\, 033207-5680 \n\n\n\n\nFrank: 0171-5223687; frank.huppertz@gmx.de; Assistenz: Patrizia Clouth \n  \n\n\n\n\n\n\n\n\n\n\n\n\n\nAblauf\nFreitag\n18:00 Abendessen \n19:00  Willkommen und Einführung in die Blumenkunst \n20:30    Einführung in das Sitzen in Stille \n21:00   Ende des ersten Tages \nSamstag\n7:00   Sitzen in Stille / Gehmeditation \n8:00   Frühstück \n9:30    Kado / Shoka Shinputai – Einführung und praktische Übung \n12:30   Mittagspause \n14:30   Kado / Shoka Shinputai – Fortführung der Übung \n16:00   Kaffee- / Tee-Pause \n16:30   Kado / Jiyuka – Einführung und Übung des freien Stils \n18:00   Abendessen \n19:30   Sitzen in Stille / Gehmeditation \n20:30   Ende des zweiten Tages \nSonntag\n7:00   Sitzen in Stille / Gehmeditation \n8:00   Frühstück \n9:30   Kado – Gestaltung eines Ikebanas nach freier Wahl \n12:30   Abschluss und Mittagessen \n  \n\n  \n\n\n\n\nDie Blumen im Frühling – der Mond im Herbst\, im Sommer die kühle Brise – im Winter der Schnee!\nWenn unnütze Sachen den Geist nicht vernebeln\, ist es des Menschen glücklichste Jahreszeit.\nMumonkan \n\n\n\n\n\n\n  \n  \n\nAnmeldung und Zimmerreservierung direkt beim Veranstalter. 
URL:https://www.rosenwaldhof.de/event/franz-huppertz-ikebana-2020/
LOCATION:Rosenwaldhof\, Bergstraße 2\, Groß Kreutz (Havel)\, 14550\, Deutschland
GEO:52.4428131;12.7341275
X-APPLE-STRUCTURED-LOCATION;VALUE=URI;X-ADDRESS=Rosenwaldhof Bergstraße 2 Groß Kreutz (Havel) 14550 Deutschland;X-APPLE-RADIUS=500;X-TITLE=Bergstraße 2:geo:12.7341275,52.4428131
CATEGORIES:MBSR,Meditation,Persönlichkeit & Kreativität
ATTACH;FMTTYPE=image/jpeg:https://www.rosenwaldhof.de/wp-content/uploads/2019/05/ikebana-2019-invers.jpg
ORGANIZER;CN="Frank%20Huppertz":MAILTO:frank.huppertz@gmx.de
END:VEVENT
END:VCALENDAR