BEGIN:VCALENDAR
VERSION:2.0
PRODID:-//Rosenwaldhof - ECPv4.8//NONSGML v1.0//EN
CALSCALE:GREGORIAN
METHOD:PUBLISH
X-WR-CALNAME:Rosenwaldhof
X-ORIGINAL-URL:https://www.rosenwaldhof.de
X-WR-CALDESC:Veranstaltungen für Rosenwaldhof
BEGIN:VEVENT
DTSTART;VALUE=DATE:20200714
DTEND;VALUE=DATE:20200721
DTSTAMP:20260419T234734
CREATED:20200519T144137Z
LAST-MODIFIED:20200528T105804Z
UID:3585-1594684800-1595289599@www.rosenwaldhof.de
SUMMARY:FIND YOURSELF IN TIMES OF TROUBLE - LET IT BE
DESCRIPTION:Aufgrund der „verrückten“ Umstände auf unserem gemeinsamen Planeten und den damit einhergehenden Veränderungen\, im eigenen Inneren und in der äußeren Welt\, macht es Sinn\, die aktuelle Situation dafür zu nutzen sich zu besinnen. Das Corona-Virus betrifft uns kollektiv als auch  jeden Menschen auf sehr individuelle Art und Weise. Gerade in so einer bewegten Zeit kann Yoga und Meditation unterstützend wirken und wir sollten unsere Anbindung an diese Praxis nicht verlieren. \nWenn wir Yoga praktizieren\, entsteht eine Verbindung mit dem eigenen Wesenskern – Erfahrungen und Einsichten werden strahlender und entstehen aus einer stillen Präsenz. \nDas Yogasutra des Patanjali\, eine der wichtigsten Schriften des Yoga\, definiert Yoga als eine Praxis bei der es darum geht eine innere Haltung des Losgelöstseins zu üben. Dabei will Yoga nichts aus uns machen\, was wir nicht bereits wären\, sondern nur die Hindernisse aus dem Weg räumen\, die uns nicht erkennen lassen\, wer wir in Wahrheit sind. \nIn dieser Woche bedeutet das konkret den Körper durch Asanapraxis zu stärken\, das Nervensystem mit Pranayama zu harmonisieren und den Geist zu bändigen\, damit er nicht der Energie negativer Emotionen und geistiger Ruhelosigkeit verfällt. Beginnt der Yoga seine Wirkung zu entfalten\, kann es zu einer wunderbaren Erfahrung werden\, mit persönlichen Anliegen\, Wünschen und Intentionen in die eigene Praxis einzutauchen und so der Stimme der Intuition zu lauschen. Perspektiven weiten sich\, Raum für neue Lösungen entsteht und somit auch die konkrete Erfahrung von Selbstwirksamkeit. \nDer Rosenwaldhof mit seiner ruhigen und gastlichen Atmosphäre\, einer leckeren vegetarischen Küche und der umliegenden Natur versorgt uns mit all dem\, was es braucht um in eine tiefe Praxiserfahrung einzutauchen\, somit erfrischt\, gestärkt und achtsam in die kommende Zeit zu gehen. \nIch freue mich bereits auf Eure Anmeldungen und die gemeinsame Zeit! \nLeitung: Ivonne Kröger\nAnreisetag: 14. Juli – Beginn des Seminars 16:00 Uhr\nAbreisetag: 20. Juli – Mittags\nInvestition: 450 € \n\n\n\n\n7:15 \n\n\nYogapraxis  (1 Std.) \n\n\n\n\n8:30 \n\n\nFrühstück \n\n\n\n\n10:15 \n\n\nYogapraxis (2 Std.) \n\n\n\n\n12:30 \n\n\nMittagessen \n\n\n\n\nFreizeit \n\n\nZeit für Aktivitäten und Freizeit… \nSpaziergänge\, baden\, lesen\, in der Sonne sitzen… \n\n\n\n\n16:15 \n\n\nYogapraxis (2 Std.) \n\n\n\n\n18:30 \n\n\nAbendessen \n\n\n\n\n19:45 \n\n\nYogapraxis (1 Std.) \n\n\n\n
URL:https://www.rosenwaldhof.de/event/find-yourself-in-times-of-trouble-let-it-be/
LOCATION:Rosenwaldhof\, Bergstraße 2\, Groß Kreutz (Havel)\, 14550\, Deutschland
GEO:52.4428131;12.7341275
X-APPLE-STRUCTURED-LOCATION;VALUE=URI;X-ADDRESS=Rosenwaldhof Bergstraße 2 Groß Kreutz (Havel) 14550 Deutschland;X-APPLE-RADIUS=500;X-TITLE=Bergstraße 2:geo:12.7341275,52.4428131
CATEGORIES:Yoga
ATTACH;FMTTYPE=image/png:https://www.rosenwaldhof.de/wp-content/uploads/2020/05/PastedGraphic-4.png
ORGANIZER;CN="Ivonne%20Kr%C3%B6ger":MAILTO:purna_yoga_muenster@yahoo.de
END:VEVENT
END:VCALENDAR