BEGIN:VCALENDAR
VERSION:2.0
PRODID:-//Rosenwaldhof - ECPv4.8//NONSGML v1.0//EN
CALSCALE:GREGORIAN
METHOD:PUBLISH
X-WR-CALNAME:Rosenwaldhof
X-ORIGINAL-URL:https://www.rosenwaldhof.de
X-WR-CALDESC:Veranstaltungen für Rosenwaldhof
BEGIN:VEVENT
DTSTART;VALUE=DATE:20220828
DTEND;VALUE=DATE:20220905
DTSTAMP:20260419T123545
CREATED:20220222T120051Z
LAST-MODIFIED:20220329T080014Z
UID:4855-1661644800-1662335999@www.rosenwaldhof.de
SUMMARY:Feldenkrais in der Havellandschaft
DESCRIPTION:Feldenkrais mit Lena Schumacher \n \nAnmeldung und Zimmerbuchung  N U R  über den Veranstalter (s.u.) ! 
URL:https://www.rosenwaldhof.de/event/feldenkrais-in-der-havellandschaft-2022/
LOCATION:Rosenwaldhof\, Bergstraße 2\, Groß Kreutz (Havel)\, 14550\, Deutschland
GEO:52.4428131;12.7341275
X-APPLE-STRUCTURED-LOCATION;VALUE=URI;X-ADDRESS=Rosenwaldhof Bergstraße 2 Groß Kreutz (Havel) 14550 Deutschland;X-APPLE-RADIUS=500;X-TITLE=Bergstraße 2:geo:12.7341275,52.4428131
CATEGORIES:geschlossene Gruppe,Persönlichkeit & Kreativität
ATTACH;FMTTYPE=image/jpeg:https://www.rosenwaldhof.de/wp-content/uploads/2022/02/header_20170212_142601.jpg
ORGANIZER;CN="WomenFairTravel":MAILTO:info@womenfairtravel.com
END:VEVENT
END:VCALENDAR