BEGIN:VCALENDAR
VERSION:2.0
PRODID:-//Rosenwaldhof - ECPv4.8//NONSGML v1.0//EN
CALSCALE:GREGORIAN
METHOD:PUBLISH
X-WR-CALNAME:Rosenwaldhof
X-ORIGINAL-URL:https://www.rosenwaldhof.de
X-WR-CALDESC:Veranstaltungen für Rosenwaldhof
BEGIN:VEVENT
DTSTART;VALUE=DATE:20210623
DTEND;VALUE=DATE:20210628
DTSTAMP:20260419T160333
CREATED:20201109T202407Z
LAST-MODIFIED:20210510T194549Z
UID:3822-1624406400-1624838399@www.rosenwaldhof.de
SUMMARY:Faszien-Yoga nach Der FASZIO®-Methode Absage wegen Corona-Neuer Termin 2022
DESCRIPTION:\n\n\nFaszien-Yoga nach der FASZIO® Methode \nWas sind Faszien und welche Aufgaben übernehmen sie? Wie setze ich Faszientraining bewusst in meiner Yogapraxis ein und warum ist das so wichtig? Wie gestalte ich meine Yogastunde neu und außergewöhnlich? All dies erfährst du beim Faszien-Yoga by FASZIO®. \nModerne trifft Tradition: Im Faszien-Yoga werden altbekannte Asanas und Pranayama mit dem aktuellen Wissen über Faszie verbunden und aus einem neuen Blickwinkel betrachtet. Das Bewegungsverständnis von FASZIO® unterstützt traditionsübergreifend die Bedürfnisse der heutigen Teilnehmer. Dabei fusionieren Emotionen und Bewegung zur Entstehung und Erhaltung von körperlicher\, emotionaler und mentaler Gesundheit und beziehen den individuellen faszialen Grundtypus mit ein. Die fasziale Rundum-Pflege! \nMit den 7 Strategien und 5 Leitbahnen werden alle Aspekte einer körperweiten Faszienvitalität in den Fokus gesetzt. Bänder und Sehnen erhalten durch Elastizität mehr Zug- und Rückstellintensität\, Muskelaufbau in Bewegung bringt Geschmeidigkeit und Kraft. Bewegungsfreiheit benötigt Dehnfähigkeit und Lösung von Blockaden in den faszialen Leitbahnen. Vielfältige und ungewohnte Anforderungen schulen die Wahrnehmung\, ausreichend Zeiten für Regeneration fördern Widerstandskraft und Resilienz. \nIn dieser Ausbildung werden fasziale Zusammenhänge erläutert und auf die anatomisch-funktionelle Ausrichtung des Körpers im Allgemeinen und dessen Herausforderungen im Speziellen eingegangen. Im hohen Praxisanteil wird das theoretische Wissen vielfach umgesetzt\, so dass die Teilnehmer jede Menge Inspiration erhalten\, ihren Yogaunterricht und Alltag faszialer zu gestalten. Ziel ist das Erlernen einer authentischen Ausführung und Weitergabe der 7 Bewegungsqualitäten unter Einbeziehung des Leitbahnensystems. \nFaszien-Yoga nach der FASZIO® Methode ist eine moderne\, ganzheitliche Bewegungsphilosophie zur Entfaltung des individuellen Potentials für Gesundheit und Persönlichkeitsentwicklung. FASZIO® Yoga bringt mit verblüffender Einfachheit mehr Leichtigkeit\, Weite und Elastizität in den Körper und setzt tiefe\, heilende Impulse für den gesamten Organismus. Sei dabei! \nAuf YouTube: \nFaszien-Yoga nach der FASZIO® Methode  \nKursleitung: Astrid Schröder \n\n \n\n\n
URL:https://www.rosenwaldhof.de/event/faszien-yoga-nach-der-faszio-methode/
LOCATION:Rosenwaldhof\, Bergstraße 2\, Groß Kreutz (Havel)\, 14550\, Deutschland
GEO:52.4428131;12.7341275
X-APPLE-STRUCTURED-LOCATION;VALUE=URI;X-ADDRESS=Rosenwaldhof Bergstraße 2 Groß Kreutz (Havel) 14550 Deutschland;X-APPLE-RADIUS=500;X-TITLE=Bergstraße 2:geo:12.7341275,52.4428131
CATEGORIES:Yoga
ATTACH;FMTTYPE=image/jpeg:https://www.rosenwaldhof.de/wp-content/uploads/2020/11/Home-faszien-fitness.jpg
ORGANIZER;CN="Faszio%20Education":MAILTO:heike@faszio.de
END:VEVENT
END:VCALENDAR