BEGIN:VCALENDAR
VERSION:2.0
PRODID:-//Rosenwaldhof - ECPv4.8//NONSGML v1.0//EN
CALSCALE:GREGORIAN
METHOD:PUBLISH
X-WR-CALNAME:Rosenwaldhof
X-ORIGINAL-URL:https://www.rosenwaldhof.de
X-WR-CALDESC:Veranstaltungen für Rosenwaldhof
BEGIN:VEVENT
DTSTART;VALUE=DATE:20190401
DTEND;VALUE=DATE:20190408
DTSTAMP:20260419T155208
CREATED:20180926T144311Z
LAST-MODIFIED:20190222T092624Z
UID:2875-1554076800-1554681599@www.rosenwaldhof.de
SUMMARY:Integratives Fasten Berlin unter der Leitung von Prof. Dr. A. Michalsen
DESCRIPTION:Integratives Fasten mit dem Team von Prof. Dr. med. Andreas Michalsen! \n \n\n\n\n  \nIntegratives Fasten – das ist der bewusste Verzicht auf feste Nahrung\, in Kombination mit naturheilkundlichen Selbsthilfestrategien und Methoden aus der Mind-Body-Medizin (Bewegung\, Entspannung\, Meditation\, Strategien der Stressbewältigung und vieles mehr) unter interdisziplinärer medizinischer Begleitung. \nIn dieser Woche sind Sie in guten Händen.\nUnter Begleitung des Teams um Prof. Dr. med. Michalsen können Sie seine Empfehlungen aus dem Buch „Heilen mit der Kraft der Natur“ hautnah erfahren. Unser erfahrenes Fastenteam wird Sie in vielfältiger Weise begleiten und unterstützen. Freuen Sie sich auf ein abwechslungsreiches Programm\, in dem Sie umfassende Informationen erhalten und vielfältige Methoden kennen lernen\, die für Sie sowohl im Fasten als auch danach zu Hause wertvoll sind: \n\nAusführliche Information zum Fasten\, zu den dazugehörigen Prozessen im Körper und wie Sie diese unterstützen können\nNaturheilkundliche Hausmittel aus Europa und Asien in Theorie und Praxis\nGemeinsames Herstellen der Fastenverpflegung (frisch zubereitete Gemüse-abkochungen\, frischgepresste Gemüsesäfte\, Kräutermischungen für Tees usw.)\nÄrztliche Fastenvisiten\nEinblick in die aktuelle Fastenforschung\nEinführung in Achtsamkeitsübungen/Meditation\nAchtsame Körperübungen und Yoga\nImpulsvorträge und Austausch zu Themen aus der Mind-Body-Medizin\nWanderungen\nUmfassende Einführung in das Fastenbrechen\, die Aufbauzeit zu Hause und eine für Sie passende\, alltagstaugliche gesunde Ernährung\n\n\n\n\n\n\n\nSchenken Sie sich Ihrem Körper – Ihrer Seele eine Auszeit!\nMit unserer engmaschigen ärztlichen Betreuung richtet sich unser Angebot sowohl an gesunde Menschen als auch an Menschen mit folgenden Erkrankungen: \n\nBluthochdruck\nDiabetes mellitus Typ 2 ohne Insulinmedikation\nRheumatoider Arthritis\nAdipositas/metabolischem Syndrom\nNahrungsmittelunverträglichkeiten\n\n  \nSeminargebühr 690\,00 € inkl. MwSt  \n(die Vergabe von 2 Sozialplätzen á 500 € inkl. MwSt behalten wir uns vor) \n  \nHinzu kommt Unterkunft und Fastenverpflegung \nUnterkunft im Einzelzimmer und Bio-Fastenverpflegung: 6 x 68 € \nUnterkunft im Doppelzimmer zu zweit und Bio-Fastenverpflegung: 6 x 58 € \nUnterkunft im Doppelzimmer in Einzelbelegung und Bio-Fastenverpflegung: 6 x 78 € \nAnmeldung\, Zimmerreservierung und weitere Informationen bei \nFrau Knaub: Tel.: 0177 – 2118756 \nE-Mail: Integratives.Fasten@gmail.com \n  \nWir freuen uns auf eine intensive\, gemeinsame Fastenwoche! \nProf. Dr. med. Andreas Michalsen \nDr. med. Daniela Liebscher \nKrankenschwester Inga Knaub \nDipl. Ökotroph. Alexandra Prüß \nYogalehrer Ralf Amenitsch \nDipl. Psych. Christel von Scheidt \n\n\n\n  \n\n  \nBitte melden Sie sich für das Seminar direkt beim Veranstalter an.  Teilen Sie bitte ihren Zimmerwunsch dem Veranstalter mit.  
URL:https://www.rosenwaldhof.de/event/fastenprofmichalsen2019-fruehjahr/
LOCATION:Rosenwaldhof\, Bergstraße 2\, Groß Kreutz (Havel)\, 14550\, Deutschland
GEO:52.4428131;12.7341275
X-APPLE-STRUCTURED-LOCATION;VALUE=URI;X-ADDRESS=Rosenwaldhof Bergstraße 2 Groß Kreutz (Havel) 14550 Deutschland;X-APPLE-RADIUS=500;X-TITLE=Bergstraße 2:geo:12.7341275,52.4428131
CATEGORIES:Fasten,Yoga
ATTACH;FMTTYPE=image/jpeg:https://www.rosenwaldhof.de/wp-content/uploads/2017/03/9053DFE1A151451D94108ACA4C939DF5.jpg
ORGANIZER;CN="Akademie%20f%C3%BCr%20Integratives%20Fasten":MAILTO:kontakt@integratives-fasten.de
END:VEVENT
END:VCALENDAR