BEGIN:VCALENDAR
VERSION:2.0
PRODID:-//Rosenwaldhof - ECPv4.8//NONSGML v1.0//EN
CALSCALE:GREGORIAN
METHOD:PUBLISH
X-WR-CALNAME:Rosenwaldhof
X-ORIGINAL-URL:https://www.rosenwaldhof.de
X-WR-CALDESC:Veranstaltungen für Rosenwaldhof
BEGIN:VEVENT
DTSTART;VALUE=DATE:20181112
DTEND;VALUE=DATE:20181119
DTSTAMP:20260419T232440
CREATED:20171215T123604Z
LAST-MODIFIED:20181022T180012Z
UID:2566-1541980800-1542585599@www.rosenwaldhof.de
SUMMARY:Integratives Fasten Berlin unter der Leitung von Prof. Dr. A. Michalsen
DESCRIPTION:Integratives Fasten mit dem Team von Prof. Dr. med. Andreas Michalsen! \n \n\n\n\n  \nIntegratives Fasten – das ist der bewusste Verzicht auf feste Nahrung\, in Kombination mit naturheilkundlichen Selbsthilfestrategien und Methoden aus der Mind-Body-Medizin (Bewegung\, Entspannung\, Meditation\, Strategien der Stressbewältigung und vieles mehr) unter interdisziplinärer medizinischer Begleitung. \nIn dieser Woche sind Sie in guten Händen.\nUnter Begleitung des Teams um Prof. Dr. med. Michalsen können Sie seine Empfehlungen aus dem Buch „Heilen mit der Kraft der Natur“ hautnah erfahren. Unser erfahrenes Fastenteam wird Sie in vielfältiger Weise begleiten und unterstützen. Freuen Sie sich auf ein abwechslungsreiches Programm\, in dem Sie umfassende Informationen erhalten und vielfältige Methoden kennen lernen\, die für Sie sowohl im Fasten als auch danach zu Hause wertvoll sind: \n\nAusführliche Information zum Fasten\, zu den dazugehörigen Prozessen im Körper und wie Sie diese unterstützen können\nNaturheilkundliche Hausmittel aus Europa und Asien in Theorie und Praxis\nGemeinsames Herstellen der Fastenverpflegung (frisch zubereitete Gemüse-abkochungen\, frischgepresste Gemüsesäfte\, Kräutermischungen für Tees usw.)\nÄrztliche Fastenvisiten\nEinblick in die aktuelle Fastenforschung\nEinführung in Achtsamkeitsübungen/Meditation\nAchtsame Körperübungen und Yoga\nImpulsvorträge und Austausch zu Themen aus der Mind-Body-Medizin\nWanderungen\nUmfassende Einführung in das Fastenbrechen\, die Aufbauzeit zu Hause und eine für Sie passende\, alltagstaugliche gesunde Ernährung\n\n\n\n\n\n\n\nSchenken Sie sich Ihrem Körper – Ihrer Seele eine Auszeit!\nMit unserer engmaschigen ärztlichen Betreuung richtet sich unser Angebot sowohl an gesunde Menschen als auch an Menschen mit folgenden Erkrankungen: \n\nBluthochdruck\nDiabetes mellitus Typ 2 ohne Insulinmedikation\nRheumatoider Arthritis\nAdipositas/metabolischem Syndrom\nNahrungsmittelunverträglichkeiten\n\n(bei Bedarf kann die Anreise schon am Sonntag\, den 11.11. erfolgen) \nSeminar-Kosten: 590\,00 € inkl. MwSt. \nUnterkunft und Verpflegung bitte separat im Rosenwaldhof buchen: \nUnterkunft im Einzelzimmer und Bio-Fastenverpflegung: 6 x 65 € \nUnterkunft im Doppelzimmer und Bio-Fastenverpflegung: 6 x 55 € \nAnmeldung und weitere Informationen bei Frau Knaub: Tel.: 0177 – 2118756 \nE-Mail: Integratives.Fasten@gmail.com \n  \nWir freuen uns auf eine intensive\, gemeinsame Fastenwoche! \nProf. Dr. med. Andreas Michalsen \nDr. med. Daniela Liebscher \nKrankenschwester Inga Knaub \nDipl. Ökotroph. Alexandra Prüß \nYogalehrer Ralf Amenitsch \nDipl. Psych. Christel von Scheidt \n\n\n\n  \n\n  \nBitte melden Sie sich für das Seminar direkt beim Veranstalter an.  Ihr Zimmer im Rosenwaldhof reservieren Sie bitte nach der Anmeldung zum Seminar mit folgendem Link. \n[vc_row][vc_column][vc_tta_accordion c_position=“right“ active_section=“1000″ collapsible_all=“true“][vc_tta_section title=“Zimmerreservierung bitte hier klicken.“ tab_id=“1484146577277-3de1b8b1-a9bd“][vc_column_text]\n\n\n\n\n\n\n\n\n\n Ihr Vorname (Pflichtfeld)\n      \n Ihr Nachname (Pflichtfeld)\n      \n Strasse (Pflichtfeld)\n      \n Postleitzahl (Pflichtfeld)\n      \n Ort (Pflichtfeld)\n      \n Telefon (Pflichtfeld)\n      \n Ihre E-Mail-Adresse (Pflichtfeld)\n      \nMein Zimmerwunsch 1 (bitte wählen)Einzelzimmer mit BadEinzelzimmer mit EtagenbadDoppelzimmer mit Bad \nMein Zimmerwunsch 2 (bitte wählen)Einzelzimmer mit BadEinzelzimmer mit EtagenbadDoppelzimmer mit Bad \nIch buche die Unterkunft und Verpflegung entsprechend den Vorgaben des SeminarveranstaltersIch habe besondere Hinweise zu meiner An-/Abreise\, Verpflegung oder Weiterem und teile diese im folgenden mit: \n Ihre Nachricht\n      \nBitte lasse dieses Feld leer. \nIch bestätige\, dass ich die Zimmerreservierung auf Basis der gültigen Preisliste und Stornierungsbedingungen durchführe. (https://www.rosenwaldhof.de/preise-und-stornierungsbedingungen/) (Pflichtfeld) \nIch bestätige\, dass ich die Datenschutzerklärung des Rosenwaldhof gelesen habe und sie akzeptiere. (https://www.rosenwaldhof.de/datenschutz-ds-gvo/) (Pflichtfeld) \nBitte beantworten Sie folgende Spamschutz-Frage: 30 plus 50 =  \n \n[/vc_column_text][/vc_tta_section][/vc_tta_accordion][/vc_column][/vc_row] 
URL:https://www.rosenwaldhof.de/event/fastenprofmichalsen2018/
LOCATION:Rosenwaldhof\, Bergstraße 2\, Groß Kreutz (Havel)\, 14550\, Deutschland
GEO:52.4428131;12.7341275
X-APPLE-STRUCTURED-LOCATION;VALUE=URI;X-ADDRESS=Rosenwaldhof Bergstraße 2 Groß Kreutz (Havel) 14550 Deutschland;X-APPLE-RADIUS=500;X-TITLE=Bergstraße 2:geo:12.7341275,52.4428131
CATEGORIES:Fasten
ATTACH;FMTTYPE=image/jpeg:https://www.rosenwaldhof.de/wp-content/uploads/2017/03/9053DFE1A151451D94108ACA4C939DF5.jpg
ORGANIZER;CN="Akademie%20f%C3%BCr%20Integratives%20Fasten":MAILTO:kontakt@integratives-fasten.de
END:VEVENT
END:VCALENDAR