BEGIN:VCALENDAR
VERSION:2.0
PRODID:-//Rosenwaldhof - ECPv4.8//NONSGML v1.0//EN
CALSCALE:GREGORIAN
METHOD:PUBLISH
X-WR-CALNAME:Rosenwaldhof
X-ORIGINAL-URL:https://www.rosenwaldhof.de
X-WR-CALDESC:Veranstaltungen für Rosenwaldhof
BEGIN:VEVENT
DTSTART;VALUE=DATE:20200419
DTEND;VALUE=DATE:20200424
DTSTAMP:20260419T223327
CREATED:20191118T151003Z
LAST-MODIFIED:20200131T170006Z
UID:3384-1587254400-1587686399@www.rosenwaldhof.de
SUMMARY:Retreat: "Essen lieben lernen" - Teil 1
DESCRIPTION:Das Retreat bietet 5 erholsame\, lehrreiche und transformierende Tage\, die einem der wichtigsten Aspekte menschlicher Gesundheit und Lebensqualität gewidmet sind – unserer Ernährung. \n \nDie Reise führt vom eigenen Ernährung-Typ über kompaktes\, aktuelles Wissen\, Ess-Tantra\, Yoga\, Reflexionen zu emotionalem Essen bis hin zu den ökologischen Konsequenzen unserer Ess-Entscheidungen und einer neuen Art des Genusses. Eingerahmt von feinstem Bio-Essen und wundervoller Natur ist dieses Retreat eine echte Bewusstseinserweiterung. \n\n  \n\nKosten: Seminar = 285\,- € plus U & V je nach Zimmerkategorie\n\n  \n  \nSeminaranmeldung sowie Zimmerbuchung machen Sie bitte direkt beim Veranstalter.     
URL:https://www.rosenwaldhof.de/event/essenliebenlernen_svenwerchan_teil_1_2020/
LOCATION:Rosenwaldhof\, Bergstraße 2\, Groß Kreutz (Havel)\, 14550\, Deutschland
GEO:52.4428131;12.7341275
X-APPLE-STRUCTURED-LOCATION;VALUE=URI;X-ADDRESS=Rosenwaldhof Bergstraße 2 Groß Kreutz (Havel) 14550 Deutschland;X-APPLE-RADIUS=500;X-TITLE=Bergstraße 2:geo:12.7341275,52.4428131
CATEGORIES:Fasten,Gesunde Ernährung,MBSR
ORGANIZER;CN="Dr.%20Sven%20Werchan":MAILTO:mail@drwerchan.de
END:VEVENT
END:VCALENDAR