BEGIN:VCALENDAR
VERSION:2.0
PRODID:-//Rosenwaldhof - ECPv4.8//NONSGML v1.0//EN
CALSCALE:GREGORIAN
METHOD:PUBLISH
X-WR-CALNAME:Rosenwaldhof
X-ORIGINAL-URL:https://www.rosenwaldhof.de
X-WR-CALDESC:Veranstaltungen für Rosenwaldhof
BEGIN:VEVENT
DTSTART;VALUE=DATE:20200607
DTEND;VALUE=DATE:20200611
DTSTAMP:20260423T103443
CREATED:20200125T101042Z
LAST-MODIFIED:20200505T150301Z
UID:3506-1591488000-1591833599@www.rosenwaldhof.de
SUMMARY:Kompaktkurs Hatha Yoga zum Auftanken... und eine Reise zum Mysterium des Beckenbodens - zertifizierter Präventionskurs!
DESCRIPTION:Der Beckenboden gilt mit allen seinen Funktionen als „das Tor des Lebens“. Ihm wohnt ein ganz besonderer Zauber inne. Mythen beinhalten Botschaften für den Menschen. Wir können uns an ihnen orientieren. Welche Signale gibt mir mein Körper? Kann ich das wahrnehmen? \n \n  \n \nDie Achtsamkeit für uns selbst steht an diesen vier Tagen im Vordergrund. Ziel ist die Entspannung von Körper\, Seele und dem Geist. Auch TeilnehmerInnen ohne Vorkenntnisse finden hier einen leichten Einstieg zum Yoga. In diesem Kurs wenden wir uns diesem “Wunderwerk der Natur“ mit seinem ganzheitlichen Aspekt zu. Denn auch das Herz\, der Atem und das Fühlen sind eng miteinander verbunden. \nUnser körperliches und emotionales Wohlbefinden hängt wesentlich vom Zustand unserer Beckenbodenmuskulatur ab. Denn sie hat eine zentrale Bedeutung für unseren gesamten Organismus. Kenntnisse um die Funktionsweise unterstützen uns darin\, sie zu einer Quelle von Vitalität und Lebensfreude werden zu lassen. Der Beckenboden ist der Schlüssel zu allen unseren Bewegungen\, zu guter Körperhaltung\, zu Dynamik\, stabilem Gleichgewicht und harmonischer Koordination. Er unterstützt unsere Atmung und gleichzeitig unseren stimmlichen Ausdruck. \nSanfte Körperübungen in Verbindung mit dem Atem führen zu innerer Ruhe. Kurze Meditationsübungen ergänzen die Praxis. Anatomische Aspekte und kleine Geschichten aus der Yoga-Philosophie unterstützen das Erkennen der Zusammenhänge auf der geistigen Ebene. Natürlich gehen wir der Frage nach\, was ist Hatha-Yoga? Verbindung mit den Elementen der Erde nehmen wir durch Erfahrungen mit der\, und innerhalb der Natur auf. Sie umrahmen die Tage. Achtsames Gehen durch den Wald oder am Wasser fördert die Körperwahrnehmung. Wir werden uns ebenso dem inneren und äußerem Feuer zuwenden. \nWer mag\, verwöhnt seinen Gaumen mit biologisch-vegetarischer Vollwertkost aus der Küche des Rosenwaldhofes. Er liegt zwischen Potsdam und Brandenburg an der Havel\, eingebettet am Waldrand in der Nähe zahlreicher Seen. Unterkunft und Verpflegung sind gesondert zu buchen. \nLeitung: Elvira Müllers\, Yogalehrerin BDY/EYU \nBitte mitbringen: bequeme und wetterfeste Kleidung\, Hausschuhe\, 1 Decke \nKosten: 186 €* zzgl Unterkunft und Verpflegung (wird separat vom Rosenwaldhof berechnet) \n* „Hatha-Yoga zum Auftanken“ (Kompaktkurs) ist unter der Kurs-ID: 20170904-950433 von der Zentralen Prüfstelle Prävention zertifiziert. In der Regel werden ca. 75 – 80 € von den Krankenkassen erstattet. \n  \nAnmeldung und Info bitte direkt bei Elvira Müllers. \n\n \nBitte melden Sie sich für das Seminar direkt beim Veranstalter an. Zimmerbuchung erfolgt mit folgendem Link! \n[vc_row][vc_column][vc_tta_accordion c_position=“right“ active_section=“1000″ collapsible_all=“true“][vc_tta_section title=“Zimmerreservierung bitte hier klicken.“ tab_id=“1484146577277-3de1b8b1-a9bd“][vc_column_text]\n\n\n\n\n\n\n\n\n\n Ihr Vorname (Pflichtfeld)\n      \n Ihr Nachname (Pflichtfeld)\n      \n Strasse (Pflichtfeld)\n      \n Postleitzahl (Pflichtfeld)\n      \n Ort (Pflichtfeld)\n      \n Telefon (Pflichtfeld)\n      \n Ihre E-Mail-Adresse (Pflichtfeld)\n      \nMein Zimmerwunsch 1 (bitte wählen)Einzelzimmer mit BadEinzelzimmer mit EtagenbadDoppelzimmer mit Bad \nMein Zimmerwunsch 2 (bitte wählen)Einzelzimmer mit BadEinzelzimmer mit EtagenbadDoppelzimmer mit Bad \nIch buche die Unterkunft und Verpflegung entsprechend den Vorgaben des SeminarveranstaltersIch habe besondere Hinweise zu meiner An-/Abreise\, Verpflegung oder Weiterem und teile diese im folgenden mit: \n Ihre Nachricht\n      \nBitte lasse dieses Feld leer. \nIch bestätige\, dass ich die Zimmerreservierung auf Basis der gültigen Preisliste und Stornierungsbedingungen durchführe. (https://www.rosenwaldhof.de/preise-und-stornierungsbedingungen/) (Pflichtfeld) \nIch bestätige\, dass ich die Datenschutzerklärung des Rosenwaldhof gelesen habe und sie akzeptiere. (https://www.rosenwaldhof.de/datenschutz-ds-gvo/) (Pflichtfeld) \nBitte beantworten Sie folgende Spamschutz-Frage: 20 plus 40 =  \n \n[/vc_column_text][/vc_tta_section][/vc_tta_accordion][/vc_column][/vc_row] 
URL:https://www.rosenwaldhof.de/event/elvira-muellers_juni20/
LOCATION:Rosenwaldhof\, Bergstr. 2\, Groß Kreutz\, 14550\, Deutschland
GEO:52.4427558;12.7339338
X-APPLE-STRUCTURED-LOCATION;VALUE=URI;X-ADDRESS=Rosenwaldhof Bergstr. 2 Groß Kreutz 14550 Deutschland;X-APPLE-RADIUS=500;X-TITLE=Bergstr. 2:geo:12.7339338,52.4427558
CATEGORIES:Yoga,Zertifizierter Präventionskurs
ATTACH;FMTTYPE=image/jpeg:https://www.rosenwaldhof.de/wp-content/uploads/2020/01/Elvira-Müller-Gruppe.jpg
ORGANIZER;CN="Elvira%20M%C3%BCllers":MAILTO:elyoga@posteo.de
END:VEVENT
END:VCALENDAR