BEGIN:VCALENDAR
VERSION:2.0
PRODID:-//Rosenwaldhof - ECPv4.8//NONSGML v1.0//EN
CALSCALE:GREGORIAN
METHOD:PUBLISH
X-WR-CALNAME:Rosenwaldhof
X-ORIGINAL-URL:https://www.rosenwaldhof.de
X-WR-CALDESC:Veranstaltungen für Rosenwaldhof
BEGIN:VEVENT
DTSTART;VALUE=DATE:20220428
DTEND;VALUE=DATE:20220502
DTSTAMP:20260419T123504
CREATED:20220117T150944Z
LAST-MODIFIED:20220329T065659Z
UID:4688-1651104000-1651449599@www.rosenwaldhof.de
SUMMARY:Ayurveda & Yoga Retreat im Frühling
DESCRIPTION:\nIm Frühjahr gibt es nichts Wohltuenderes als ein paar gemütliche Tage mit Yoga\, Ayurveda und herzlichen Menschen zu verbringen. Yoga eröffnet uns den weiten Moment\, in dem wir uns selbst liebevoll und wahrhaftig begegnen können. Es lehrt uns\, die Sinne nach innen zu richten\, uns zu spüren und zu erkennen\, welcher Schatz in uns wohnt. \nNutze diese Zeit und nimm dir ein paar Tage ganz für dich\, um Körper\, Geist und Seele in Balance zu bringen. In Ayurveda Workshops widmen wir uns der saisonalen Ayurveda Ernährung und du erhältst Empfehlungen und wertvolle Tipps\, wie du mit Ayurveda deine Yogapraxis individualisieren kannst. Die Yogastunden sind entsprechend der Ayurveda Konstitutionstypen ausgerichtet: von erdend bis feurig – so kannst Du Deiner Konstitution entsprechend üben und am eigenen Körper erfahren\, welche Yogapraxis Dir am besten tut!  \n\nFREUE DICH AUF…\n– 3 Nächte im Rosenwaldhof\n– tägliche Yoga Einheiten ausgerichtet nach den Ayurveda Konstitutionstypen und Pranayama Atemtechniken\n– den Zauber eines Kraftortes mitten in der Natur des Havellandes\, der den Prozess unterstützt\n– Ayurveda Workshops über saisonale Ernährung und typgerechte Yogapraxis nach den Ayurveda Konstitutionstypen\n– hochwertige ayurvedische Mahlzeiten in Bio-Qualität\, die eigens für unsere Bedürfnisse zubereitet werden\n– einen persönlichen\, sicheren Rahmen\, in dem du richtig loslassen kannst\n– gleichgesinnte Menschen\, die sich mit dir auf die Reise begeben\n– eine herzliche Atmosphäre\, in der du dich gut aufgehoben fühlst\n– Ruhe und Zeit für dich\n\n \nEin detailliertes Retreat Programm kannst du auf meiner Webseite nachlesen. \n \n\nSeminargebühr: 320 Euro zzgl. Unterkunft und Verpflegung \nSeminargebühr beinhaltet:\n6 Yoga Sessions á 60 – 90min\n2 Meditation Sessions á 30min\n2 Ayurveda Workshops á 120min \nLeitung des Retreats: Doreen Palke\, Heilpraktikerin und Yogalehrerin\nIn meiner Arbeit verbinden sich das uralte Wissen und Wirken der Ayurveda Medizin\, Ernährungstherapie\, Thai Yoga Massage und Yogatherapie mit medizinischer Kompetenz und therapeutischen Erfahrungen. \n\n\n \n\nDie Anmeldung für das Retreat erfolgt direkt über Doreen Palke. \nDein Zimmer und die Verpflegung im Rosenwaldhof reserviere bitte unter folgendem Link:  \n\n\n[vc_row][vc_column][vc_tta_accordion c_position=“right“ active_section=“1000″ collapsible_all=“true“][vc_tta_section title=“Zimmerreservierung bitte hier klicken.“ tab_id=“1484146577277-3de1b8b1-a9bd“][vc_column_text]\n\n\n\n\n\n\n\n\n\n Ihr Vorname (Pflichtfeld)\n      \n Ihr Nachname (Pflichtfeld)\n      \n Strasse (Pflichtfeld)\n      \n Postleitzahl (Pflichtfeld)\n      \n Ort (Pflichtfeld)\n      \n Telefon (Pflichtfeld)\n      \n Ihre E-Mail-Adresse (Pflichtfeld)\n      \nMein Zimmerwunsch 1 (bitte wählen)Einzelzimmer mit BadEinzelzimmer mit EtagenbadDoppelzimmer mit Bad \nMein Zimmerwunsch 2 (bitte wählen)Einzelzimmer mit BadEinzelzimmer mit EtagenbadDoppelzimmer mit Bad \nIch buche die Unterkunft und Verpflegung entsprechend den Vorgaben des SeminarveranstaltersIch habe besondere Hinweise zu meiner An-/Abreise\, Verpflegung oder Weiterem und teile diese im folgenden mit: \n Ihre Nachricht\n      \nBitte lasse dieses Feld leer. \nIch bestätige\, dass ich die Zimmerreservierung auf Basis der gültigen Preisliste und Stornierungsbedingungen durchführe. (https://www.rosenwaldhof.de/preise-und-stornierungsbedingungen/) (Pflichtfeld) \nIch bestätige\, dass ich die Datenschutzerklärung des Rosenwaldhof gelesen habe und sie akzeptiere. (https://www.rosenwaldhof.de/datenschutz-ds-gvo/) (Pflichtfeld) \nBitte beantworten Sie folgende Spamschutz-Frage: 30 plus 50 =  \n \n[/vc_column_text][/vc_tta_section][/vc_tta_accordion][/vc_column][/vc_row \n\n\n
URL:https://www.rosenwaldhof.de/event/doreenpalkeayurveda2022/
LOCATION:Rosenwaldhof\, Bergstraße 2\, Groß Kreutz (Havel)\, 14550\, Deutschland
GEO:52.4428131;12.7341275
X-APPLE-STRUCTURED-LOCATION;VALUE=URI;X-ADDRESS=Rosenwaldhof Bergstraße 2 Groß Kreutz (Havel) 14550 Deutschland;X-APPLE-RADIUS=500;X-TITLE=Bergstraße 2:geo:12.7341275,52.4428131
CATEGORIES:Meditation,Yoga
ATTACH;FMTTYPE=image/jpeg:https://www.rosenwaldhof.de/wp-content/uploads/2022/01/Doreen-Palke-Profil-Pic.jpg
ORGANIZER;CN="Doreen%20Palke":MAILTO:doreen@doreenpalke.com
END:VEVENT
END:VCALENDAR