BEGIN:VCALENDAR
VERSION:2.0
PRODID:-//Rosenwaldhof - ECPv4.8//NONSGML v1.0//EN
CALSCALE:GREGORIAN
METHOD:PUBLISH
X-WR-CALNAME:Rosenwaldhof
X-ORIGINAL-URL:https://www.rosenwaldhof.de
X-WR-CALDESC:Veranstaltungen für Rosenwaldhof
BEGIN:VEVENT
DTSTART;VALUE=DATE:20230623
DTEND;VALUE=DATE:20230626
DTSTAMP:20260423T103947
CREATED:20220117T212442Z
LAST-MODIFIED:20230124T125316Z
UID:4707-1687478400-1687737599@www.rosenwaldhof.de
SUMMARY:Treffen der Ausbilder*innen der Deutschen Qigong Gesellschfaft
DESCRIPTION:Kollegialer Austausch\, Vertiefung von Methoden\, Berufspolitische Themen\, Qualitätssicherung \n \nAnmeldung und Zimmerbuchung  N U R  über den Veranstalter (s.u.) ! 
URL:https://www.rosenwaldhof.de/event/deutsche-qigong-gesellschaft-treffen-der-ausbilderinnen-juni-2023/
LOCATION:Rosenwaldhof\, Bergstraße 2\, Groß Kreutz (Havel)\, 14550\, Deutschland
GEO:52.4428131;12.7341275
X-APPLE-STRUCTURED-LOCATION;VALUE=URI;X-ADDRESS=Rosenwaldhof Bergstraße 2 Groß Kreutz (Havel) 14550 Deutschland;X-APPLE-RADIUS=500;X-TITLE=Bergstraße 2:geo:12.7341275,52.4428131
CATEGORIES:geschlossene Gruppe,Taiji/Qigong
ATTACH;FMTTYPE=image/png:https://www.rosenwaldhof.de/wp-content/uploads/2022/01/intro.png
END:VEVENT
END:VCALENDAR