BEGIN:VCALENDAR
VERSION:2.0
PRODID:-//Rosenwaldhof - ECPv4.8//NONSGML v1.0//EN
CALSCALE:GREGORIAN
METHOD:PUBLISH
X-WR-CALNAME:Rosenwaldhof
X-ORIGINAL-URL:https://www.rosenwaldhof.de
X-WR-CALDESC:Veranstaltungen für Rosenwaldhof
BEGIN:VEVENT
DTSTART;VALUE=DATE:20210907
DTEND;VALUE=DATE:20210909
DTSTAMP:20260421T101411
CREATED:20210719T155007Z
LAST-MODIFIED:20210719T170817Z
UID:4476-1630972800-1631145599@www.rosenwaldhof.de
SUMMARY:Confideon Unternehmungsberatung GmbH
DESCRIPTION:Teamtage \nTeambuilding\, Teamentwicklung\, Achtsamkeitsübungen 
URL:https://www.rosenwaldhof.de/event/confideon-unternehmungsberatung-gmbh/
LOCATION:Rosenwaldhof\, Bergstraße 2\, Groß Kreutz (Havel)\, 14550\, Deutschland
GEO:52.4428131;12.7341275
X-APPLE-STRUCTURED-LOCATION;VALUE=URI;X-ADDRESS=Rosenwaldhof Bergstraße 2 Groß Kreutz (Havel) 14550 Deutschland;X-APPLE-RADIUS=500;X-TITLE=Bergstraße 2:geo:12.7341275,52.4428131
CATEGORIES:geschlossene Gruppe
ORGANIZER;CN="Oliver%20Hug":MAILTO:info@confideon.de
END:VEVENT
END:VCALENDAR