BEGIN:VCALENDAR
VERSION:2.0
PRODID:-//Rosenwaldhof - ECPv4.8//NONSGML v1.0//EN
CALSCALE:GREGORIAN
METHOD:PUBLISH
X-WR-CALNAME:Rosenwaldhof
X-ORIGINAL-URL:https://www.rosenwaldhof.de
X-WR-CALDESC:Veranstaltungen für Rosenwaldhof
BEGIN:VEVENT
DTSTART;VALUE=DATE:20200324
DTEND;VALUE=DATE:20200330
DTSTAMP:20260423T085750
CREATED:20190426T114121Z
LAST-MODIFIED:20190625T171707Z
UID:3201-1585008000-1585526399@www.rosenwaldhof.de
SUMMARY:Fortbildung prä- und perinatale Körpertherapie Modul 1
DESCRIPTION:Fortbildung für prä- und perinatale Körpertherapie – 8 aufeinander aufbauende Seminare.\n  \n24. März 2020 – 19. Juni 2022 \n  \nEs werden Fertigkeiten vermittelt\, die zur Begleitung von Familien und zum Leiten von Kleingruppen mit Erwachsenen befähigen. Ziel ist die Integration von vorgeburtlichen und Geburtserfahrungen. \n \n \n« Mitfühlende Augen sehen lebende Wesen. » \nLotos Sutra \n  \nTermine: \n\nModul: 24. –29. März         2020 – Reise vor / während der Empfängnis\nModul: 16. –21. Juni            2020 – Bindung und Anbindung – Bonding and Attachment\nModul: 06. –11. Oktober    2020 – Vaginale Geburt\nModul: 23. –28. März          2021 – Chemische Interventionen\nModul: 15. –20. Juni            2021 – Chirurgische Eingriffe\nModul: 28. Sept.-3. Okt.     2021 – Double Bind / Zwickmühlen Dynamik I\nModul: 22. –27. März          2022 – Double Bind / Zwickmühlen Dynamik II\nModul: 14. –19. Juni            2022 – Familien- und Gruppendynamiken\, Integration\n\n  \n  \n  \nBei Interesse ist ein Kennlernen möglich: \n\nBei einem unserer Gruppenseminare für körperorientierte Therapie zum vorgeburtlichen Erleben und der Geburt. Die Termine sind hier: www.lebens-wandel.net  oder www.bewussterAnfang.de\nAm 7.9.2019 in Potsdam bei dem Symposium des Verbands der Upledger CranioSacral Therapeut*innen Deutschland e.V. „Therapieansätze zur prä- und perinatalen Kindesentwicklung“ werden wir referieren und einen Workshop halten. Weitere Informationen und das Programm sind hier: https://www.ucd-verband.de\nAm 11.-13.Oktober 2019 bei Oldenburg zu Cranio- Jahrestagung „Vom Sein zum Werden“. Weitere Informationen und das Programm sind hier: www.cranioverband.org\nWir beantworten gerne weitere Fragen am Telefon: Claudia Köhler: 0351 – 264 134 9; Sabera Dringenberg: 0711 – 65 22 13 55\n\n  \nWas ist das Lern-/ Vertiefungsangebot?  \n>      Die therapeutische Präsenz in der prä- und perinatalen Körperpsychotherapie \n>      Die Überzeugung\, dass die Prägung eines Kindes nicht erst nach der Geburt\, sondern mit dem Anfang des Lebens beginnt \n>      Die Identifikation der eigenen frühen Prägung \n>      Die Überzeugung\, dass allen Traumata Gesundheit\, Lebenskraft\, Potenz zugrunde liegen \n>      auf die eigenen Kraftquellen zugriff haben und diese Methode therapeutisch nutzen \n>      Die Bedingungen schaffen\, um die „originale“ Gesundheit immer wieder spürbar zu machen\, vorrangig durch vielschichtige Maßnahmen\, die therapeutische Sicherheit zu maximieren\, z. B. das Tempo regulieren\, wertfreien\, unterstützenden Kontakt herstellen\, Grenzen etablieren\, Co-Regulation und Embodiment unterstützen und für Wahlfreiheit sorgen \n>      Das Erkennen frühester Prägungen des impliziten Gedächtnisses anhand feiner Gesten und Bewegungen und der Begleitung der/s Klientin/Klienten\, wenn er keine Worte findet \n>      Die therapeutische Nutzung der integrierten persönlichen pränatalen Erfahrungen in der Arbeit mit Familien und kleinen Gruppen Erwachsener \n  \nWer profitiert von dem Angebot? \nDer berufliche Hintergrund der Teilnehmerinnen und Teilnehmer der ersten zwei Fortbildungen war sehr unterschiedlich. Sie kamen aus folgenden Bereichen: Geburtshilfe (Hebammen\, Ärzte)\, Körpertherapie\, wie Craniosacral-\, Polarity Therapie\, Osteopathie\, Naturheilkunde und Physiotherapie\, Laktationsberatung\, Psychotherapie\, aus ärztlichen Fachbereichen  wie Anästhesie\, Gynäkologie und Kinderheilkunde. Viele arbeiteten bereits mit Familien mit Kleinkindern und hatten ein tiefes Interesse an vorsprachlichen Prägungen und deren Integration für sich selbst\, Familien und Erwachsene. \n  \nSeminar Leitung – Claudia Köhler & Sabera Dringenberg & Team \n  \nClaudia Köhler\nPraxis für Heilkunde auf dem Gebiet der Psychotherapie \n  \nPrivatpraxis für Physiotherapie auf ärztliche Verordnung \nMönchsholz 12\, 01342 Dresden \nT 0351 2641349 \ninfo@lebens-wandel.net \nwww.lebens-wandel.net \n  \nDie Methoden: prä- und perinatale Körperpsychotherapie (Raymond Castellino); Hakomi – körperorientierte Psychotherapie (Ron Kurtz); Craniosacrale Therapie (Franklin Sills) \nIn eigener Praxis tätig seit 1996. Einzel-\, Familien- und Gruppenarbeit\, Supervision. Der Schwerpunkt liegt auf der präverbalen Lebensphase. Ausbilderin für prä- und perinatale Körperpsychotherapie seit 2003. \n  \nSabera A. Dringenberg\nHeilpraktikerin \n \nPraxis für körperorientierte Therapie  \nMozartstraße 51\, 70180 Stuttgart \nT 0711 65221355  \ninfo@bewussterAnfang.de \nwww.bewussterAnfang.de \n Seit 1997 in eigener Praxis in Stuttgart tätig. Einzel- und Familienarbeit\, Seminare zur Integration von Familiendynamiken\, Geburt und vorgeburtlichem Erleben im In- und Ausland\, Supervision \nPrä- und perinatale Körpertherapie (Ray Castellino)\, Biodynamische Craniosacrale Therapie (Franklyn Sills)\, Craniosacral Balancing (Bhadrena Tschumi) \n\nBitte melden Sie sich für das Seminar direkt beim Veranstalter an. Ihr Zimmer im Rosenwaldhof reservieren Sie bitte mit folgendem Link. \n[vc_row][vc_column][vc_tta_accordion c_position=“right“ active_section=“1000″ collapsible_all=“true“][vc_tta_section title=“Zimmerreservierung bitte hier klicken.“ tab_id=“1484146577277-3de1b8b1-a9bd“][vc_column_text]\n\n\n\n\n\n\n\n\n\n Ihr Vorname (Pflichtfeld)\n      \n Ihr Nachname (Pflichtfeld)\n      \n Strasse (Pflichtfeld)\n      \n Postleitzahl (Pflichtfeld)\n      \n Ort (Pflichtfeld)\n      \n Telefon (Pflichtfeld)\n      \n Ihre E-Mail-Adresse (Pflichtfeld)\n      \nMein Zimmerwunsch 1 (bitte wählen)Einzelzimmer mit BadEinzelzimmer mit EtagenbadDoppelzimmer mit Bad \nMein Zimmerwunsch 2 (bitte wählen)Einzelzimmer mit BadEinzelzimmer mit EtagenbadDoppelzimmer mit Bad \nIch buche die Unterkunft und Verpflegung entsprechend den Vorgaben des SeminarveranstaltersIch habe besondere Hinweise zu meiner An-/Abreise\, Verpflegung oder Weiterem und teile diese im folgenden mit: \n Ihre Nachricht\n      \nBitte lasse dieses Feld leer. \nIch bestätige\, dass ich die Zimmerreservierung auf Basis der gültigen Preisliste und Stornierungsbedingungen durchführe. (https://www.rosenwaldhof.de/preise-und-stornierungsbedingungen/) (Pflichtfeld) \nIch bestätige\, dass ich die Datenschutzerklärung des Rosenwaldhof gelesen habe und sie akzeptiere. (https://www.rosenwaldhof.de/datenschutz-ds-gvo/) (Pflichtfeld) \nBitte beantworten Sie folgende Spamschutz-Frage: 10 plus 30 =  \n \n[/vc_column_text][/vc_tta_section][/vc_tta_accordion][/vc_column][/vc_row] 
URL:https://www.rosenwaldhof.de/event/claudia-koehler-koerpertherapie-modul-1-2020/
LOCATION:Rosenwaldhof\, Bergstraße 2\, Groß Kreutz (Havel)\, 14550\, Deutschland
GEO:52.4428131;12.7341275
X-APPLE-STRUCTURED-LOCATION;VALUE=URI;X-ADDRESS=Rosenwaldhof Bergstraße 2 Groß Kreutz (Havel) 14550 Deutschland;X-APPLE-RADIUS=500;X-TITLE=Bergstraße 2:geo:12.7341275,52.4428131
CATEGORIES:Beratung/Therapie
ATTACH;FMTTYPE=image/jpeg:https://www.rosenwaldhof.de/wp-content/uploads/2019/04/perinatale-therapie.jpg
ORGANIZER;CN="Praxis%20f%C3%BCr%20k%C3%B6rperorientierte%20Therapie":MAILTO:info@bewussterAnfang.de
END:VEVENT
END:VCALENDAR