BEGIN:VCALENDAR
VERSION:2.0
PRODID:-//Rosenwaldhof - ECPv4.8//NONSGML v1.0//EN
CALSCALE:GREGORIAN
METHOD:PUBLISH
X-WR-CALNAME:Rosenwaldhof
X-ORIGINAL-URL:https://www.rosenwaldhof.de
X-WR-CALDESC:Veranstaltungen für Rosenwaldhof
BEGIN:VEVENT
DTSTART;VALUE=DATE:20200918
DTEND;VALUE=DATE:20200921
DTSTAMP:20260420T010216
CREATED:20200901T193434Z
LAST-MODIFIED:20200901T193434Z
UID:3702-1600387200-1600646399@www.rosenwaldhof.de
SUMMARY:Chiron - your deepest wound & greatest gift
DESCRIPTION:Chiron is a comet with a unique  and erratic orbit. In astrology it represents „the wounded healer“. It points to where we have the strongest healing powers as a result of our own spiritual wounds. 
URL:https://www.rosenwaldhof.de/event/chiron-your-deepest-wound-greatest-gift/
LOCATION:Rosenwaldhof\, Bergstraße 2\, Groß Kreutz (Havel)\, 14550\, Deutschland
GEO:52.4428131;12.7341275
X-APPLE-STRUCTURED-LOCATION;VALUE=URI;X-ADDRESS=Rosenwaldhof Bergstraße 2 Groß Kreutz (Havel) 14550 Deutschland;X-APPLE-RADIUS=500;X-TITLE=Bergstraße 2:geo:12.7341275,52.4428131
ORGANIZER;CN="Giorgia%20Pecora":MAILTO:pecoragiorgia@gmail.com
END:VEVENT
END:VCALENDAR