BEGIN:VCALENDAR
VERSION:2.0
PRODID:-//Rosenwaldhof - ECPv4.8//NONSGML v1.0//EN
CALSCALE:GREGORIAN
METHOD:PUBLISH
X-WR-CALNAME:Rosenwaldhof
X-ORIGINAL-URL:https://www.rosenwaldhof.de
X-WR-CALDESC:Veranstaltungen für Rosenwaldhof
BEGIN:VEVENT
DTSTART;VALUE=DATE:20200920
DTEND;VALUE=DATE:20200925
DTSTAMP:20260420T013545
CREATED:20191203T140947Z
LAST-MODIFIED:20200908T081948Z
UID:3411-1600560000-1600991999@www.rosenwaldhof.de
SUMMARY:In der Stille zu Hause sein
DESCRIPTION:Deine Energie erwecken und den nächsten Schritt wagen\n5-Tage auf dem Weg in dein innerstes zu Hause\nmit der Herz-Bewusstheitsarbeit “In der Stille zu Hause sein”\n \nUns allen wohnt eine ungeahnte Lebenskraft inne\, die oft ungenutzt bleibt. Wir möchten dich einladen\, mit dieser Kraft in Kontakt und Austausch zu kommen und das Reisen zu Plätzen in der Natur mit deiner inneren Reise zu dir selbst zu verbinden. Was wäre\, wenn an dir nichts falsch wäre und du bisher nur noch nicht anerkannt hast\, wer du in der Tiefe deines Herzens bist? Dabei kannst du immer leichter die Bewegung in der Zeit\, die das äußere Leben gestaltet und die Bewegung des Loslassens in deinen inneren Raum miteinander verbinden. Was wäre\, wenn du vollständig in der Stille zu Hause bist und gleichzeitig dein Leben authentischer\, lebendiger und glücklicher lebst? \nInnerhalb des Retreats gibt es Schweigezeiten\, sowie Zeit für innere Einkehr\, einfach nur da sein und für lachen\, tanzen und Kreativität. \nWährend der Seminarzeiten werden wir auch außerhalb des Seminarraums mit Spaziergängen und Wanderungen unterwegs sein. Bitte dafür wetterfeste Kleidung (Wind- und Regenschutz)\, feste Schuhe\, Sonnenschutz und eine wärmende Sitzunterlage mitbringen. \n\nWeitere Infos: www.in-der-stille-zu-hause-sein.de\nSeminarbeitrag: 560 Euro \nZzgl. Übernachtungs- und Verpflegungskosten – es gelten die jeweils aktuellen Preise auf der Internetpräsenz des Rosenwaldhofs. \nSeminarzeiten: So. 20.09. 14 – 16 und von 17 – 19 Uhr\, Mo. bis Mi. 10 – 13 und 16 – 19 Uhr\, Do. 10 – 12 und 14 – 16 Uhr \nEine Anreise ist am Vorabend nach Absprache möglich. \nAnmeldung und Zimmerbuchung bei:  \nSchule für Bewusstsein und Lebensgestaltung\, Christine Brekenfeld und Elke Raukuttis \nmail@christine-brekenfeld.de oder info@elke-raukuttis.de \nMax. 18 Teilnehmer \nSeminarleiterinnen:\n \nElke Raukuttis und Christine Brekenfeld arbeiten seit vielen Jahren zusammen. Im Praxis- und Seminaralltag hat sich gezeigt\, dass Menschen viel mehr Möglichkeiten und Fähigkeiten in sich tragen\, als sie jemals zuvor dachten. Mit Christine Brekenfeld und Elke Raukuttis entsteht ein einzigartiger Raum des Friedens\, in dem ganz von alleine Heilung\, Lösung von alten Muster und Transformation geschieht. Dadurch eröffnet sich für alle Teilnehmer ein Raum neuer Möglichkeiten. \n\n  \nSeminaranmeldung sowie Zimmerbuchung machen Sie bitte direkt beim Veranstalter.   
URL:https://www.rosenwaldhof.de/event/chbrekenfeld-_in-der-stille-zu-hause-sein_sept-20/
LOCATION:Rosenwaldhof\, Bergstraße 2\, Groß Kreutz (Havel)\, 14550\, Deutschland
GEO:52.4428131;12.7341275
X-APPLE-STRUCTURED-LOCATION;VALUE=URI;X-ADDRESS=Rosenwaldhof Bergstraße 2 Groß Kreutz (Havel) 14550 Deutschland;X-APPLE-RADIUS=500;X-TITLE=Bergstraße 2:geo:12.7341275,52.4428131
CATEGORIES:Meditation,Persönlichkeit & Kreativität
ATTACH;FMTTYPE=image/jpeg:https://www.rosenwaldhof.de/wp-content/uploads/2019/12/Pflaumen-Christine-Brekenfeld.jpg
ORGANIZER;CN="Christine%20N.%20Brekenfeld%20%26%20Elke%20Raukuttis":MAILTO:mail@christine-brekenfeld.de
END:VEVENT
END:VCALENDAR