BEGIN:VCALENDAR
VERSION:2.0
PRODID:-//Rosenwaldhof - ECPv4.8//NONSGML v1.0//EN
CALSCALE:GREGORIAN
METHOD:PUBLISH
X-WR-CALNAME:Rosenwaldhof
X-ORIGINAL-URL:https://www.rosenwaldhof.de
X-WR-CALDESC:Veranstaltungen für Rosenwaldhof
BEGIN:VEVENT
DTSTART;VALUE=DATE:20220623
DTEND;VALUE=DATE:20220627
DTSTAMP:20260419T155148
CREATED:20220208T215638Z
LAST-MODIFIED:20220329T074233Z
UID:4797-1655942400-1656287999@www.rosenwaldhof.de
SUMMARY:Qi Gong  Weiterbildung
DESCRIPTION:QiGong  Weiterbildung \n \nAnmeldung und Zimmerbuchung  N U R  über den Veranstalter (s.u.) ! 
URL:https://www.rosenwaldhof.de/event/chan-mi-qi-gong-2022/
LOCATION:Rosenwaldhof\, Bergstraße 2\, Groß Kreutz (Havel)\, 14550\, Deutschland
GEO:52.4428131;12.7341275
X-APPLE-STRUCTURED-LOCATION;VALUE=URI;X-ADDRESS=Rosenwaldhof Bergstraße 2 Groß Kreutz (Havel) 14550 Deutschland;X-APPLE-RADIUS=500;X-TITLE=Bergstraße 2:geo:12.7341275,52.4428131
CATEGORIES:geschlossene Gruppe,Taiji/Qigong
ATTACH;FMTTYPE=image/jpeg:https://www.rosenwaldhof.de/wp-content/uploads/2022/02/Logo-Ulla-T.jpg
ORGANIZER;CN="Ulla%20Twenh%C3%B6vel":MAILTO:info@ullatwe.de
END:VEVENT
END:VCALENDAR