BEGIN:VCALENDAR
VERSION:2.0
PRODID:-//Rosenwaldhof - ECPv4.8//NONSGML v1.0//EN
CALSCALE:GREGORIAN
METHOD:PUBLISH
X-WR-CALNAME:Rosenwaldhof
X-ORIGINAL-URL:https://www.rosenwaldhof.de
X-WR-CALDESC:Veranstaltungen für Rosenwaldhof
BEGIN:VEVENT
DTSTART;VALUE=DATE:20201108
DTEND;VALUE=DATE:20201114
DTSTAMP:20260419T222809
CREATED:20200922T163142Z
LAST-MODIFIED:20200922T163307Z
UID:3735-1604793600-1605311999@www.rosenwaldhof.de
SUMMARY:Bildungsurlaub Achtsamkeitstraining/MBSR
DESCRIPTION:Einführung in die Achtsamkeitspraxis nach Jon Kabat-Zinn. Geschlossene Gruppe. \nDie Anmeldung erfolgt bis 08.10.2020 über den Bildungsträger IndiTO Bildung\, Training und Beratung\, Bonn: www.indito.de\nBitte mit Vermerk\, ob ein Einzel- oder Doppelzimmer gewünscht wird und ob eine Lebensmittelallergie vorliegt. 
URL:https://www.rosenwaldhof.de/event/bildungsurlaub-achtsamkeitstraining-mbsr/
LOCATION:Rosenwaldhof\, Bergstraße 2\, Groß Kreutz (Havel)\, 14550\, Deutschland
GEO:52.4428131;12.7341275
X-APPLE-STRUCTURED-LOCATION;VALUE=URI;X-ADDRESS=Rosenwaldhof Bergstraße 2 Groß Kreutz (Havel) 14550 Deutschland;X-APPLE-RADIUS=500;X-TITLE=Bergstraße 2:geo:12.7341275,52.4428131
CATEGORIES:MBSR,Meditation
ORGANIZER;CN="Isabella%20Winkler":MAILTO:info@mbsr-berlin.org
END:VEVENT
END:VCALENDAR