BEGIN:VCALENDAR
VERSION:2.0
PRODID:-//Rosenwaldhof - ECPv4.8//NONSGML v1.0//EN
CALSCALE:GREGORIAN
METHOD:PUBLISH
X-WR-CALNAME:Rosenwaldhof
X-ORIGINAL-URL:https://www.rosenwaldhof.de
X-WR-CALDESC:Veranstaltungen für Rosenwaldhof
BEGIN:VEVENT
DTSTART;VALUE=DATE:20220802
DTEND;VALUE=DATE:20220807
DTSTAMP:20260419T141311
CREATED:20210817T194947Z
LAST-MODIFIED:20220628T172814Z
UID:4596-1659398400-1659830399@www.rosenwaldhof.de
SUMMARY:Die 21 Taras - Weisheit weiblicher Buddhas mit Sabine Hayoz-Kalff und Nives Bercht
DESCRIPTION:Meditationsretreat mit stillem Sitzen\, angeleiteten Meditationen\, Vorträgen\, Gehmeditation\, Mantren und gesungener Praxis \n \nFür Info\, Anmeldung und Zimmerreservierung melden Sie sich bitte direkt bei der Veranstalterin Nives Bercht an. 
URL:https://www.rosenwaldhof.de/event/bercht-nives-21-taras-2-aug-2022/
LOCATION:Rosenwaldhof\, Bergstraße 2\, Groß Kreutz (Havel)\, 14550\, Deutschland
GEO:52.4428131;12.7341275
X-APPLE-STRUCTURED-LOCATION;VALUE=URI;X-ADDRESS=Rosenwaldhof Bergstraße 2 Groß Kreutz (Havel) 14550 Deutschland;X-APPLE-RADIUS=500;X-TITLE=Bergstraße 2:geo:12.7341275,52.4428131
CATEGORIES:Meditation,Schweigeretreat
ATTACH;FMTTYPE=image/jpeg:https://www.rosenwaldhof.de/wp-content/uploads/2021/08/logo.jpg
ORGANIZER;CN="Nives%20Bercht":MAILTO:nives-bercht@posteo.de
END:VEVENT
END:VCALENDAR