BEGIN:VCALENDAR
VERSION:2.0
PRODID:-//Rosenwaldhof - ECPv4.8//NONSGML v1.0//EN
CALSCALE:GREGORIAN
METHOD:PUBLISH
X-WR-CALNAME:Rosenwaldhof
X-ORIGINAL-URL:https://www.rosenwaldhof.de
X-WR-CALDESC:Veranstaltungen für Rosenwaldhof
BEGIN:VEVENT
DTSTART;VALUE=DATE:20201217
DTEND;VALUE=DATE:20201221
DTSTAMP:20260419T190323
CREATED:20201229T141441Z
LAST-MODIFIED:20201229T141441Z
UID:4092-1608163200-1608508799@www.rosenwaldhof.de
SUMMARY:In Stille Sein - Ein Winterretreat - abgesagt  Kopieren
DESCRIPTION:In diesem Meditationsretreat haben wir kurz vor Weihnachten die Möglichkeit\, in der Stille anzukommen und sie mit in die Weihnachtstage hineinzunehmen. \n \nGeführte und stille Meditationen wechseln sich ab mit Gehmeditation und achtsamer Bewegung. Besonderer Wert wird auf die Verbindung von ruhiger Sitzmeditation und Meditation in Bewegung gelegt. Kurze Vorträge geben Impulse für das Üben. \nWir schweigen während des ganzen Retreats von Donnerstagabend bis zum Sonntagmittag. \nDer Rosenwaldhof unweit der Havel gelegen bietet einen beruhigenden Rahmen. Das Team ist mit der Stille vertraut\, die Küche zaubert leckeres\, nahrhaftes Essen. Gehmeditation draußen im Garten und Spaziergänge verbinden mit der Stille der Natur. \nEs gibt die Möglichkeit für kurze Einzelgespräche\, um Impulse für die Meditation zu bekommen. \nDas Retreat ist  für AnfängerInnen und erfahrenere Meditierende geeignet. \nWir starten am Donnerstag um 17:30 mit einer Einführung und Meditation. Um 18:30 gibt es Abendessen und dann gehen wir ab 19:30 mit Meditation in die Stille. \nAm Sonntag endet das Retreat mit einem gemeinsamen Mittagessen um 12:30. \nLeitung des Retreats: \n \nBirgit Schönberger\, Business-Coach und Zenmeditationslehrerin\, arbeitet im Coaching überwiegendmit Führungskräften an den Themen Stress- und Konfliktmanagement\, Balance und achtsame Führung und leitet als Meditationslehrerin Einführungsseminare\, Meditationswochenenden und Retreats. \n  \nUlrike Juchmann\, Diplompsychologin\, Psychologische Psychotherapeutin\, systemische und verhaltenstherapeutische Lehrtherapeutin. MBSR und MBCT Trainerin. Tätigkeitsfelder sind: Inhouseseminare\, Ausbildung von VerhaltenstherapeutInnen\, Achtsame Führung und Selbstführung. \n  \n  \n  \nSeminargebühr: 265 Euro zzgl. Unterkunft und Verpflegung \n\n  \nAnmeldung\, Info und Zimmerbuchung bitte direkt beim Veranstalter. \n  
URL:https://www.rosenwaldhof.de/event/b-schoenberger-schweigeretreat-dez20-copy/
LOCATION:Rosenwaldhof\, Bergstraße 2\, Groß Kreutz (Havel)\, 14550\, Deutschland
GEO:52.4428131;12.7341275
X-APPLE-STRUCTURED-LOCATION;VALUE=URI;X-ADDRESS=Rosenwaldhof Bergstraße 2 Groß Kreutz (Havel) 14550 Deutschland;X-APPLE-RADIUS=500;X-TITLE=Bergstraße 2:geo:12.7341275,52.4428131
CATEGORIES:MBSR,Meditation,Schweigeretreat
ATTACH;FMTTYPE=image/png:https://www.rosenwaldhof.de/wp-content/uploads/2015/11/rwh_slider1.png
ORGANIZER;CN="Birgit%20Sch%C3%B6nberger":MAILTO:office@birgit-schoenberger.de
END:VEVENT
END:VCALENDAR