BEGIN:VCALENDAR
VERSION:2.0
PRODID:-//Rosenwaldhof - ECPv4.8//NONSGML v1.0//EN
CALSCALE:GREGORIAN
METHOD:PUBLISH
X-WR-CALNAME:Rosenwaldhof
X-ORIGINAL-URL:https://www.rosenwaldhof.de
X-WR-CALDESC:Veranstaltungen für Rosenwaldhof
BEGIN:VEVENT
DTSTART;VALUE=DATE:20230324
DTEND;VALUE=DATE:20230328
DTSTAMP:20260419T155452
CREATED:20220704T195723Z
LAST-MODIFIED:20230110T123309Z
UID:5192-1679616000-1679961599@www.rosenwaldhof.de
SUMMARY:Aufbruch und Neuanfang - Frühjahrsretreat
DESCRIPTION:Im Frühling werden die Tage länger\, das erste Grün bahnt sich seinen Weg ans Licht. Die Lust auf inneres Wachstum\, der Wunsch nach Aufbruch und Veränderung meldet sich. Was im Winter in der Stille gereift ist\, ruft jetzt nach Umsetzung. \nDas Retreat unterstützt uns\, Kraft und Inspiration zu finden für unsere Vorhaben. Mit geführten und stillen Meditationen\, Yoga- und Qi Gong-Einheiten\, kurzen Talks\, Gehmeditation und Zeit zum Ausruhen und Spazierengehen in der längeren Mittagspause. Das Retreat findet im Schweigen statt. Es gibt Gelegenheit zu Einzelgesprächen. \nDas Retreat ist für Anfänger*innen und erfahrene Meditierende geeignet. Einsteiger*innen bekommen zu Beginn eine Einführung. \nKosten: Seminargebühr: 250 € zzgl.19% MWST. 297\,50 €  \nHinzu kommen die Kosten für Unterkunft und Verpflegung\, die direkt an den Rosenwaldhof zu zahlen sind. \nFür weitere Information\, Anmeldung und Zimmerreservierung melden Sie sich bitte direkt bei Birgit Schönberger.  \n  
URL:https://www.rosenwaldhof.de/event/b-schoenberger-aufbruch-und-neuanfang-maerz-2023/
LOCATION:Rosenwaldhof\, Bergstraße 2\, Groß Kreutz (Havel)\, 14550\, Deutschland
GEO:52.4428131;12.7341275
X-APPLE-STRUCTURED-LOCATION;VALUE=URI;X-ADDRESS=Rosenwaldhof Bergstraße 2 Groß Kreutz (Havel) 14550 Deutschland;X-APPLE-RADIUS=500;X-TITLE=Bergstraße 2:geo:12.7341275,52.4428131
CATEGORIES:Meditation,Schweigeretreat,Taiji/Qigong,Yoga
ATTACH;FMTTYPE=image/png:https://www.rosenwaldhof.de/wp-content/uploads/2022/07/Birgit-Schönberger.png
ORGANIZER;CN="Birgit%20Sch%C3%B6nberger":MAILTO:office@birgit-schoenberger.de
END:VEVENT
END:VCALENDAR