BEGIN:VCALENDAR
VERSION:2.0
PRODID:-//Rosenwaldhof - ECPv4.8//NONSGML v1.0//EN
CALSCALE:GREGORIAN
METHOD:PUBLISH
X-WR-CALNAME:Rosenwaldhof
X-ORIGINAL-URL:https://www.rosenwaldhof.de
X-WR-CALDESC:Veranstaltungen für Rosenwaldhof
BEGIN:VEVENT
DTSTART;VALUE=DATE:20230510
DTEND;VALUE=DATE:20230515
DTSTAMP:20260419T141438
CREATED:20220329T125533Z
LAST-MODIFIED:20230330T184210Z
UID:5030-1683676800-1684108799@www.rosenwaldhof.de
SUMMARY:Auszeit für Körper\, Geist und Seele
DESCRIPTION:Yoga – Meditation – Achtsamkeit – Gesundheit \nWann bin ich gesund?  \nWenn ich nicht krank bin? Wenn mir nichts weh tut? Wenn ich schlafen kann? \nOder eher\, wenn ich mich komplett in meiner Haut wohl fühle\,  \nwenn ich Zufriedenheit in mir empfinde?  \nOder gar\, wenn meine Zellen – quasi jede einzelne – vor Glück singen?  \nUnd wenn es solch einen Zustand gibt: wie erreiche ich ihn (wieder)  \nund was haben Achtsamkeit und Yoga damit zu tun?  \nWas darf hinein in meinen Körper und was sollte hinaus\, \ndamit wir uns wirklich wohl und gesund fühlen können?  \n \nKatja Beer\, Gesundheitsexpertin \nSolche Fragen\, unseren Körper und Geist und vieles mehr bewegen wir sanft und achtsam und üben darin die Stille ein. \nDiese Auszeit im wunderschönen Ambiente des Rosenwaldhofes im Frühling in abgelegener Natur und Stille möchte uns auf allen Ebenen von Gesundheit unterstützen und anregen: \nWir richten den Blick auf uns selbst\, wir erfahren und reflektieren unser Mensch-Sein im Einklang mit unserer ganz persönlichen Natur. \nDabei unterstützen uns dynamische\, kraftvolle und kreative Yogapraktiken sowie Atemübungen/Pranayama in liebevoller Anleitung mit Miriam (Yogalehrerin BDY/EYU). \nWir experimentieren mit Meditationen\, Körperreisen/bodyscan\, Entspannungsübungen\, Visualisierungen und Achtsamkeit im Alltag aus dem MBSR-Programm (= Stressbewältigung durch Achtsamkeit) mit Brigitte (MBSR-Achtsamkeitstrainerin). \nUnd damit es rund wird\, begleitet uns Katja (Heilpraktikerin) mit ihrem umfangreichen Fachwissen aus dem Gebiet der alternativen Medizin. Sie steht für ganz persönliche gesundheitliche Anliegen und Fragen während des Seminars als Ansprechpartnerin zur Verfügung. \nZur ausführlichen Seminarbeschreibung: bitte hier klicken. \nMiriam aus Instagram: @lebensglueck_yoga \nKatja: www.schmerzbehandlung-berlin.de \nBrigitte: www.brigittegerber.de \nUnterkunft und Verpflegung extra – werden mit dem Rosenwaldhof abgerechnet. \nInformationen und Anmeldung:  \nBrigitte Gerber –  kontakt@brigittegerber.de  –  phon 030 – 85103599 \n \nAnmeldung und Zimmerbuchung  N U R  über den Veranstalter 
URL:https://www.rosenwaldhof.de/event/b-gerber-auszeit-fuer-koerper-geist-und-seele-mai-2023/
LOCATION:Rosenwaldhof\, Bergstraße 2\, Groß Kreutz (Havel)\, 14550\, Deutschland
GEO:52.4428131;12.7341275
X-APPLE-STRUCTURED-LOCATION;VALUE=URI;X-ADDRESS=Rosenwaldhof Bergstraße 2 Groß Kreutz (Havel) 14550 Deutschland;X-APPLE-RADIUS=500;X-TITLE=Bergstraße 2:geo:12.7341275,52.4428131
CATEGORIES:Highlight,MBSR,Meditation,Persönlichkeit & Kreativität,Yoga
ATTACH;FMTTYPE=image/jpeg:https://www.rosenwaldhof.de/wp-content/uploads/2020/11/image-1.jpg
ORGANIZER;CN="Brigitte%20Gerber":MAILTO:kontakt@brigittegerber.de
END:VEVENT
END:VCALENDAR