BEGIN:VCALENDAR
VERSION:2.0
PRODID:-//Rosenwaldhof - ECPv4.8//NONSGML v1.0//EN
CALSCALE:GREGORIAN
METHOD:PUBLISH
X-WR-CALNAME:Rosenwaldhof
X-ORIGINAL-URL:https://www.rosenwaldhof.de
X-WR-CALDESC:Veranstaltungen für Rosenwaldhof
BEGIN:VEVENT
DTSTART;VALUE=DATE:20230508
DTEND;VALUE=DATE:20230513
DTSTAMP:20260419T125528
CREATED:20230111T173924Z
LAST-MODIFIED:20230111T175634Z
UID:5504-1683504000-1683935999@www.rosenwaldhof.de
SUMMARY:Pranayama und Meditation
DESCRIPTION:Yoga-Intensivseminar \nKaum ein Lebensvorgang ist so existentiell und gleichzeitig so unbeachtet wie der Atem\, dabei stellt die Arbeit mit dem Atem in vielen traditionellen Übungswegen ein wichtiges Tor zur Achtsamkeit und Stille dar. Die Erfahrung eines meditativen Zustands wird durch die Arbeit mit dem Atem vorbereitet. Auf behutsame Weise wird der Atem in diesem Seminar Schritt für Schritt in seiner ganzen Fülle erfahrbar\, wobei der Schwerpunkt auf dem immer weniger tun und immer mehr geschehen lassen liegt. Dadurch entsteht ein inneres Zur-Ruhe-Kommen\, welches von Leichtigkeit und Anstrengungslosigkeit begleitet wird. Dies wird erfahrungsgemäß als sehr erholsam empfunden. Unterstützt wird dieser Prozess durch Schweigephasen in der Gruppe. Was zunächst ungewohnt erscheint\, erweist sich im Laufe der Woche als eine große Quelle neuer Kraft\, der Erneuerung und Selbstklärung. Praxiseinheiten wechseln sich mit Impulsvorträgen und kleinen Theorieeinheiten ab\, um den Boden für eine tiefgehende persönliche Erfahrung vorzubereiten und eine Klärung der Frage\, wozu Pranayama und Meditation eigentlich imstande sind\, zu ermöglichen. Die Seminarwoche soll auch dazu befähigen\, eine eigene Übungspraxis zuhause fortzusetzen. \nMöchtest du Dich gerne in eine stille Auszeit begeben\, um die Ereignisse der vergangenen Zeit an einem achtsamen Ort hinter dir zu lassen\, um innere Ruhe zu finden und neue Perspektiven zu erschließen? \n\nHerzlich Willkommen zum diesjährigen Pranayama-Seminar\, bei dem für alles gesorgt sein wird\, so dass du ganz bei dir sein und neue Kraft sammeln kannst!\nInfo\, Anmeldung und Zimmerreservierung:\nBitte hier klicken: sonneundmond.com/workshops/pranayama-meditation/\n\n\n  \n
URL:https://www.rosenwaldhof.de/event/alexander-peters-pranayama-und-meditation-8-mai-2023/
LOCATION:Rosenwaldhof\, Bergstraße 2\, Groß Kreutz (Havel)\, 14550\, Deutschland
GEO:52.4428131;12.7341275
X-APPLE-STRUCTURED-LOCATION;VALUE=URI;X-ADDRESS=Rosenwaldhof Bergstraße 2 Groß Kreutz (Havel) 14550 Deutschland;X-APPLE-RADIUS=500;X-TITLE=Bergstraße 2:geo:12.7341275,52.4428131
CATEGORIES:Highlight,Meditation,Schweigeretreat,Yoga
ATTACH;FMTTYPE=image/jpeg:https://www.rosenwaldhof.de/wp-content/uploads/2023/01/Foto-Alexander-Pranayama.jpeg
ORGANIZER;CN="Alexander%20Peters":MAILTO:lily@sonneundmond.com
END:VEVENT
END:VCALENDAR