BEGIN:VCALENDAR
VERSION:2.0
PRODID:-//Rosenwaldhof - ECPv4.8//NONSGML v1.0//EN
CALSCALE:GREGORIAN
METHOD:PUBLISH
X-WR-CALNAME:Rosenwaldhof
X-ORIGINAL-URL:https://www.rosenwaldhof.de
X-WR-CALDESC:Veranstaltungen für Rosenwaldhof
BEGIN:VEVENT
DTSTART;VALUE=DATE:20210422
DTEND;VALUE=DATE:20210426
DTSTAMP:20260419T191153
CREATED:20201006T144228Z
LAST-MODIFIED:20210507T100017Z
UID:3759-1619049600-1619395199@www.rosenwaldhof.de
SUMMARY:Achtsamkeitsretreat im Schweigen muß leider ausfallen wegen Corona
DESCRIPTION:In MBSR Kursen und Achtsamkeits-Retreats können Sie die Kraft der Achtsamkeit für sich entdecken\, um Ruhe und Gelassenheit zu fördern sowie Stress und Burnout vorzubeugen. Mehr Infos unter: MBSR Berlin 
URL:https://www.rosenwaldhof.de/event/achtsamkeitsretreat-im-schweigen/
LOCATION:Rosenwaldhof\, Bergstraße 2\, Groß Kreutz (Havel)\, 14550\, Deutschland
GEO:52.4428131;12.7341275
X-APPLE-STRUCTURED-LOCATION;VALUE=URI;X-ADDRESS=Rosenwaldhof Bergstraße 2 Groß Kreutz (Havel) 14550 Deutschland;X-APPLE-RADIUS=500;X-TITLE=Bergstraße 2:geo:12.7341275,52.4428131
CATEGORIES:MBSR,Meditation,Schweigeretreat
ATTACH;FMTTYPE=image/jpeg:https://www.rosenwaldhof.de/wp-content/uploads/2020/11/India-2014-228.jpg
ORGANIZER;CN="Isabella%20Winkler":MAILTO:info@mbsr-berlin.org
END:VEVENT
END:VCALENDAR