BEGIN:VCALENDAR
VERSION:2.0
PRODID:-//Rosenwaldhof - ECPv4.8//NONSGML v1.0//EN
CALSCALE:GREGORIAN
METHOD:PUBLISH
X-WR-CALNAME:Rosenwaldhof
X-ORIGINAL-URL:https://www.rosenwaldhof.de
X-WR-CALDESC:Veranstaltungen für Rosenwaldhof
BEGIN:VEVENT
DTSTART;VALUE=DATE:20211202
DTEND;VALUE=DATE:20211206
DTSTAMP:20260419T155145
CREATED:20201102T184244Z
LAST-MODIFIED:20210224T173631Z
UID:3780-1638403200-1638748799@www.rosenwaldhof.de
SUMMARY:Achtsamkeitsretreat im Schweigen
DESCRIPTION:Shamata und Vipassana \nDie Meditationstage im schönen Rosenwaldhof laden ein\, inne zu halten und zur Ruhe zu kommen\, den Geist zu klären\, Sinne und Herz zu öffnen. Sitz- und Gehmeditationen im Wechsel bieten Gelegenheit\, Einsicht zu gewinnen und Gleichmut und Herzensfrieden zu entfalten. \nBitte melden Sie sich für das Seminar direkt beim Veranstalter an.  \nIhr Zimmer im Rosenwaldhof reservieren Sie bitte mit folgendem Link. \nZimmerreservierung 
URL:https://www.rosenwaldhof.de/event/achtsamkeitsretreat-im-schweigen-2/
LOCATION:Rosenwaldhof\, Bergstraße 2\, Groß Kreutz (Havel)\, 14550\, Deutschland
GEO:52.4428131;12.7341275
X-APPLE-STRUCTURED-LOCATION;VALUE=URI;X-ADDRESS=Rosenwaldhof Bergstraße 2 Groß Kreutz (Havel) 14550 Deutschland;X-APPLE-RADIUS=500;X-TITLE=Bergstraße 2:geo:12.7341275,52.4428131
CATEGORIES:Meditation,Schweigeretreat
ATTACH;FMTTYPE=image/jpeg:https://www.rosenwaldhof.de/wp-content/uploads/2020/11/India-2014-243.jpg
ORGANIZER;CN="Isabella%20Winkler":MAILTO:info@mbsr-berlin.org
END:VEVENT
END:VCALENDAR