BEGIN:VCALENDAR
VERSION:2.0
PRODID:-//Rosenwaldhof - ECPv4.8//NONSGML v1.0//EN
CALSCALE:GREGORIAN
METHOD:PUBLISH
X-WR-CALNAME:Rosenwaldhof
X-ORIGINAL-URL:https://www.rosenwaldhof.de
X-WR-CALDESC:Veranstaltungen für Rosenwaldhof
BEGIN:VEVENT
DTSTART;VALUE=DATE:20221202
DTEND;VALUE=DATE:20221205
DTSTAMP:20260419T160438
CREATED:20220209T143007Z
LAST-MODIFIED:20220822T121010Z
UID:4819-1669939200-1670198399@www.rosenwaldhof.de
SUMMARY:A joyful path - Weisheit und Mitgefühl des Jahrestrainings 1 in der Tradition von Thich Nhat Hanh
DESCRIPTION:Vertiefungsgruppe – Dharmapraxis – Sutren – Transfer in den Alltag- Betonung der Sangha \n4.Teil des Jahrestrainings 1 \n \nAnmeldung und Zimmerbuchung  N U R  über den Veranstalter (s.u.) ! 
URL:https://www.rosenwaldhof.de/event/a-joyful-path-weisheit-und-mitgefuehl-jahrestraining-in-der-tradition-von-thich-nhat-hanh-jt1-4/
LOCATION:Rosenwaldhof\, Bergstraße 2\, Groß Kreutz (Havel)\, 14550\, Deutschland
GEO:52.4428131;12.7341275
X-APPLE-STRUCTURED-LOCATION;VALUE=URI;X-ADDRESS=Rosenwaldhof Bergstraße 2 Groß Kreutz (Havel) 14550 Deutschland;X-APPLE-RADIUS=500;X-TITLE=Bergstraße 2:geo:12.7341275,52.4428131
CATEGORIES:Meditation
ATTACH;FMTTYPE=image/jpeg:https://www.rosenwaldhof.de/wp-content/uploads/2022/02/Thich-Nhat-Hanh-cooking-chopping-carrots-719x1024.jpg
ORGANIZER;CN="Bettina%20Romhardt":MAILTO:bettinaromhardt@aol.com
END:VEVENT
END:VCALENDAR