BEGIN:VCALENDAR
VERSION:2.0
PRODID:-//Rosenwaldhof - ECPv4.8//NONSGML v1.0//EN
CALSCALE:GREGORIAN
METHOD:PUBLISH
X-WR-CALNAME:Rosenwaldhof
X-ORIGINAL-URL:https://www.rosenwaldhof.de
X-WR-CALDESC:Veranstaltungen für Rosenwaldhof
BEGIN:VEVENT
DTSTART;VALUE=DATE:20181006
DTEND;VALUE=DATE:20181013
DTSTAMP:20260419T202901
CREATED:20180312T175121Z
LAST-MODIFIED:20180312T175815Z
UID:2660-1538784000-1539388799@www.rosenwaldhof.de
SUMMARY:3HO Kundalini-Yoga Lehrerausbildung Stufe 2\, Modul 5
DESCRIPTION:
URL:https://www.rosenwaldhof.de/event/3ho-kundalini-yoga-lehrerausbildung-stufe-2-modul-5/
LOCATION:Rosenwaldhof\, Bergstraße 2\, Groß Kreutz (Havel)\, 14550\, Deutschland
GEO:52.4428131;12.7341275
X-APPLE-STRUCTURED-LOCATION;VALUE=URI;X-ADDRESS=Rosenwaldhof Bergstraße 2 Groß Kreutz (Havel) 14550 Deutschland;X-APPLE-RADIUS=500;X-TITLE=Bergstraße 2:geo:12.7341275,52.4428131
CATEGORIES:Yoga
ORGANIZER;CN="Amrit%20Kaur":MAILTO:lehrerausbildung@3ho.de
END:VEVENT
END:VCALENDAR